BEGIN:VCALENDAR
VERSION:2.0
PRODID:-//wp-events-plugin.com//7.2.3.1//EN
TZID:Europe/Berlin
X-WR-TIMEZONE:Europe/Berlin
BEGIN:VEVENT
UID:652@marketingclub-muenchen.de
DTSTART;TZID=Europe/Berlin:20241001T121500
DTEND;TZID=Europe/Berlin:20241001T183000
DTSTAMP:20240918T075358Z
URL:https://www.marketingclub-muenchen.de/veranstaltungen/zukunft-der-mark
 e-wir-besuchen-den-4-augsburger-marketing-tag/
SUMMARY:Zukunft der Marke: Wir besuchen den 4. Augsburger Marketing Tag - M
 arketing Club München
DESCRIPTION:Wir fahren nach Augsburg und entdecken die Zukunft der Marke am
  4. Augsburger Marketing Tag! Experten aus Praxis und Wissenschaft beleuch
 ten\, wie Purpose und Künstliche Intelligenz Markenwert und -wachstum ant
 reiben. 
ATTACH;FMTTYPE=image/jpeg:https://www.marketingclub-muenchen.de/wp-content
 /uploads/4.-Augsburger-Marketingtag-1.png
CATEGORIES:Kooperation,Netzwerk,Tagung,Vortrag
LOCATION:Universität Augsburg\, Wirtschaftswissenschaftlichen Fakultät\, 
 Universitätsstraße 16\, 86159  Augsburg
X-APPLE-STRUCTURED-LOCATION;VALUE=URI;X-ADDRESS=Universitätsstraße 16\, A
 ugsburg\, Bayern\, 86159 \, Deutschland;X-APPLE-RADIUS=100;X-TITLE=Univers
 ität Augsburg\, Wirtschaftswissenschaftlichen Fakultät:geo:0,0
END:VEVENT
BEGIN:VTIMEZONE
TZID:Europe/Berlin
X-LIC-LOCATION:Europe/Berlin
BEGIN:DAYLIGHT
DTSTART:20240331T030000
TZOFFSETFROM:+0100
TZOFFSETTO:+0200
TZNAME:CEST
END:DAYLIGHT
END:VTIMEZONE
END:VCALENDAR