BEGIN:VCALENDAR
VERSION:2.0
PRODID:-//wp-events-plugin.com//7.2.3.1//EN
TZID:Europe/Berlin
X-WR-TIMEZONE:Europe/Berlin
BEGIN:VEVENT
UID:401@marketingclub-muenchen.de
DTSTART;TZID=Europe/Berlin:20190411T190000
DTEND;TZID=Europe/Berlin:20190411T210000
DTSTAMP:20190507T090408Z
URL:https://www.marketingclub-muenchen.de/veranstaltungen/xing-new-work-tr
 ends-und-social-media-fuer-business-professionals/
SUMMARY:XING - New Work Trends und Social Media für Business Professionals
  - Marketing Club München
DESCRIPTION:Wie hat sich XING zum führenden sozialen Netzwerk entwickelt? 
 Was steht hinter dem Megatrend “New Work”? Tom Adebahr wird mit uns di
 e Marketing-Trends 2019 diskutieren und mit Best Practices zeigen\, wie Si
 e als Teil Ihrer Social Media Strategie die Reichweite des XING Netzwerkes
  für Ihr Marketing nutzen können. 
ATTACH;FMTTYPE=image/jpeg:https://www.marketingclub-muenchen.de/wp-content
 /uploads/teaser-XING-marketing-club-muenchen-1.jpg
CATEGORIES:Rückblick,Vortrag
LOCATION:Design Offices München Nove\, Luise-Ullrich-Straße 14\, 80636 M
 ünchen
GEO:48.1438065;11.538300100000015
X-APPLE-STRUCTURED-LOCATION;VALUE=URI;X-ADDRESS=Luise-Ullrich-Straße 14\, 
 München\, Bayern\, 80636\, Deutschland;X-APPLE-RADIUS=100;X-TITLE=Design 
 Offices München Nove:geo:48.1438065,11.538300100000015
END:VEVENT
BEGIN:VTIMEZONE
TZID:Europe/Berlin
X-LIC-LOCATION:Europe/Berlin
BEGIN:DAYLIGHT
DTSTART:20190331T030000
TZOFFSETFROM:+0100
TZOFFSETTO:+0200
TZNAME:CEST
END:DAYLIGHT
END:VTIMEZONE
END:VCALENDAR