BEGIN:VCALENDAR
VERSION:2.0
PRODID:-//wp-events-plugin.com//7.2.3.1//EN
TZID:Europe/Berlin
X-WR-TIMEZONE:Europe/Berlin
BEGIN:VEVENT
UID:539@marketingclub-muenchen.de
DTSTART;TZID=Europe/Berlin:20210707T093000
DTEND;TZID=Europe/Berlin:20210707T153000
DTSTAMP:20210701T134329Z
URL:https://www.marketingclub-muenchen.de/veranstaltungen/wv-packaging-sum
 mit-21-stark-verbindend-umweltbewusst/
SUMMARY:W&V PACKAGING SUMMIT 21  :  STARK  VERBINDEND  UMWELTBEWUSST - Mark
 eting Club München
DESCRIPTION:Verpackungen in Zeiten von Pandemie und digitalem Point of Sale
 . Verpackungen sind ein unverzichtbares Medium. Sie tragen wesentlich zum 
 Erfolg einer Marke bei und der Anspruch an die Verpackung wird immer kompl
 exer: Sie muss inspirieren\, informieren\, navigieren und dabei nachhaltig
  und innovativ sein. Als Mitglied des Marketing Club München erhalten Sie
  exklusiv 50 % Preisvorteil: € 99\,50 anstatt € 199\,- zzgl. Mwst.
ATTACH;FMTTYPE=image/jpeg:https://www.marketingclub-muenchen.de/wp-content
 /uploads/WUV_KOOP_Packaging_Summit_2021-1.png
CATEGORIES:Kooperation,Online-Vortrag
END:VEVENT
BEGIN:VTIMEZONE
TZID:Europe/Berlin
X-LIC-LOCATION:Europe/Berlin
BEGIN:DAYLIGHT
DTSTART:20210328T030000
TZOFFSETFROM:+0100
TZOFFSETTO:+0200
TZNAME:CEST
END:DAYLIGHT
END:VTIMEZONE
END:VCALENDAR