BEGIN:VCALENDAR
VERSION:2.0
PRODID:-//wp-events-plugin.com//7.2.3.1//EN
TZID:Europe/Berlin
X-WR-TIMEZONE:Europe/Berlin
BEGIN:VEVENT
UID:476@marketingclub-muenchen.de
DTSTART;TZID=Europe/Berlin:20200716T100000
DTEND;TZID=Europe/Berlin:20200716T170000
DTSTAMP:20200609T050341Z
URL:https://www.marketingclub-muenchen.de/veranstaltungen/wv-online-conven
 tion-sport-meets-manufacturing/
SUMMARY:W&V Online Convention: Sport meets Manufacturing - Marketing Club M
 ünchen
DESCRIPTION:W&V MAKE betrifft den Mittelstand. W&V MAKE powered by Adobe fi
 ndet am 16. Juli 2020 erneut im virtuellen Raum statt. Inhaltlicher Schwer
 punkt Sport meets Manufacturing. Erfahren Sie\, wie Sie die Digitalisierun
 g Ihrer Marke vorantreiben\, wie Ihnen die Transformation gelingt oder wie
  Sie mit einer geschickten Markendehnung neue Zielgruppen erschließen.
ATTACH;FMTTYPE=image/jpeg:https://www.marketingclub-muenchen.de/wp-content
 /uploads/teaser-wuv-make-sport-marketing-club-muenchen-720.png
CATEGORIES:Kooperation
END:VEVENT
BEGIN:VTIMEZONE
TZID:Europe/Berlin
X-LIC-LOCATION:Europe/Berlin
BEGIN:DAYLIGHT
DTSTART:20200329T030000
TZOFFSETFROM:+0100
TZOFFSETTO:+0200
TZNAME:CEST
END:DAYLIGHT
END:VTIMEZONE
END:VCALENDAR