BEGIN:VCALENDAR
VERSION:2.0
PRODID:-//wp-events-plugin.com//7.2.3.1//EN
TZID:Europe/Berlin
X-WR-TIMEZONE:Europe/Berlin
BEGIN:VEVENT
UID:426@marketingclub-muenchen.de
DTSTART;TZID=Europe/Berlin:20191030T090000
DTEND;TZID=Europe/Berlin:20191030T170000
DTSTAMP:20191007T141134Z
URL:https://www.marketingclub-muenchen.de/veranstaltungen/wv-green-marketi
 ng-day-2019-nachhaltig-glaubwuerdig-geliebt/
SUMMARY:W&V GREEN MARKETING DAY 2019 - Nachhaltig. Glaubwürdig. Geliebt. -
  Marketing Club München
DESCRIPTION:Ein Qualitätsprodukt anzubieten\, reicht heute nicht mehr aus.
  Der Kunde will mit gutem Gewissen einkaufen. Nachhaltigkeit ist deshalb u
 nverzichtbar\, auch in der Kommunikation. Lernen Sie auf dem W&V Green Mar
 keting Day\, wie Sie Nachhaltigkeit glaubwürdig und mit Fingerspitzengef
 ühl kommunizieren.\n
ATTACH;FMTTYPE=image/jpeg:https://www.marketingclub-muenchen.de/wp-content
 /uploads/teaser-mcm-wuv-green-marketing-day.jpg
CATEGORIES:Kooperation
LOCATION:Botanikum München\, Feldmochinger Straße 75-79\, 80993 München
X-APPLE-STRUCTURED-LOCATION;VALUE=URI;X-ADDRESS=Feldmochinger Straße 75-79
 \, München\, 80993\, Deutschland;X-APPLE-RADIUS=100;X-TITLE=Botanikum Mü
 nchen:geo:0,0
END:VEVENT
BEGIN:VTIMEZONE
TZID:Europe/Berlin
X-LIC-LOCATION:Europe/Berlin
BEGIN:STANDARD
DTSTART:20191027T020000
TZOFFSETFROM:+0200
TZOFFSETTO:+0100
TZNAME:CET
END:STANDARD
END:VTIMEZONE
END:VCALENDAR