BEGIN:VCALENDAR
VERSION:2.0
PRODID:-//wp-events-plugin.com//7.2.3.1//EN
TZID:Europe/Berlin
X-WR-TIMEZONE:Europe/Berlin
BEGIN:VEVENT
UID:720@marketingclub-muenchen.de
DTSTART;TZID=Europe/Berlin:20260121T140000
DTEND;TZID=Europe/Berlin:20260121T190000
DTSTAMP:20260122T160736Z
URL:https://www.marketingclub-muenchen.de/veranstaltungen/wv-connect-strat
 egie-kompass-2026-klarheit-fuer-cmos/
SUMMARY:W&V Connect: Strategie-Kompass 2026 – Klarheit für CMOs - Market
 ing Club München
DESCRIPTION:W&V Connect: Strategie-Kompass 2026 bringt zum Jahresstart ausg
 ewählte Entscheider:innen in München zusammen.
ATTACH;FMTTYPE=image/jpeg:https://www.marketingclub-muenchen.de/wp-content
 /uploads/mcm-teaser-wuvconnect.png
CATEGORIES:Kooperation
LOCATION:überlab. House of Communication (Serviceplan Group)\, Friedenstra
 ße 24\, 81671 München
X-APPLE-STRUCTURED-LOCATION;VALUE=URI;X-ADDRESS=Friedenstraße 24\, Münche
 n\, 81671\, Deutschland;X-APPLE-RADIUS=100;X-TITLE=überlab. House of Comm
 unication (Serviceplan Group):geo:0,0
END:VEVENT
BEGIN:VTIMEZONE
TZID:Europe/Berlin
X-LIC-LOCATION:Europe/Berlin
BEGIN:STANDARD
DTSTART:20251026T020000
TZOFFSETFROM:+0200
TZOFFSETTO:+0100
TZNAME:CET
END:STANDARD
END:VTIMEZONE
END:VCALENDAR