BEGIN:VCALENDAR
VERSION:2.0
PRODID:-//wp-events-plugin.com//7.2.3.1//EN
TZID:Europe/Berlin
X-WR-TIMEZONE:Europe/Berlin
BEGIN:VEVENT
UID:451@marketingclub-muenchen.de
DTSTART;TZID=Europe/Berlin:20200226T190000
DTEND;TZID=Europe/Berlin:20200226T210000
DTSTAMP:20210701T145904Z
URL:https://www.marketingclub-muenchen.de/veranstaltungen/wirkung-und-prae
 senz-mit-selbstmarketing-zum-erfolg/
SUMMARY:Wirkung und Präsenz: Mit Selbstmarketing zum Erfolg - Marketing Cl
 ub München
DESCRIPTION:Oft entscheiden die ersten Sekunden wie wir wirken. Was\, wenn 
 wir genau bestimmen könnten\, wie andere uns wahrnehmen? Speaker und Coac
 h Florian Beier verriet in seinem Vortrag leicht umsetzbare Techniken die 
 helfen\, im Job und Privatleben souveräner aufzutreten.
ATTACH;FMTTYPE=image/jpeg:https://www.marketingclub-muenchen.de/wp-content
 /uploads/teaser-wirkung-marketing-club-muenchen-1200x630-1.jpg
CATEGORIES:MCM Academy,Vortrag
LOCATION:Marek & Beier\, Engelhardstr. 29\, 81369  München
X-APPLE-STRUCTURED-LOCATION;VALUE=URI;X-ADDRESS=Engelhardstr. 29\, München
 \, 81369 \, Deutschland;X-APPLE-RADIUS=100;X-TITLE=Marek & Beier:geo:0,0
END:VEVENT
BEGIN:VTIMEZONE
TZID:Europe/Berlin
X-LIC-LOCATION:Europe/Berlin
BEGIN:STANDARD
DTSTART:20191027T020000
TZOFFSETFROM:+0200
TZOFFSETTO:+0100
TZNAME:CET
END:STANDARD
END:VTIMEZONE
END:VCALENDAR