BEGIN:VCALENDAR
VERSION:2.0
PRODID:-//wp-events-plugin.com//7.2.3.1//EN
TZID:Europe/Berlin
X-WR-TIMEZONE:Europe/Berlin
BEGIN:VEVENT
UID:642@marketingclub-muenchen.de
DTSTART;TZID=Europe/Berlin:20240404T183000
DTEND;TZID=Europe/Berlin:20240404T210000
DTSTAMP:20240505T130839Z
URL:https://www.marketingclub-muenchen.de/veranstaltungen/wie-konzipiert-m
 an-eine-bar-unser-stammtisch-im-april/
SUMMARY:Wie konzipiert man eine Bar? Unser Stammtisch im April - Marketing 
 Club München
DESCRIPTION:Hauptbahnhof. Beste Lage. Tolles Hotel. Und da soll jetzt noch 
 eine Bar rein.\nErst vor kurzem wurde die WXYZ Bar im Aloft Munich eröffn
 et. Bei unserem nächsten Stammtisch bekommen wir einen exklusiven Einblic
 k in das Konzept: Wie konzipiert man eine neue Bar? Dabei sein lohnt sich 
 auf jeden Fall!
ATTACH;FMTTYPE=image/jpeg:https://www.marketingclub-muenchen.de/wp-content
 /uploads/teaserbild_mcm_Aloft_Stammtisch_April_1200x630.png
CATEGORIES:Marketing vor Ort,MCM Stammtisch,Netzwerk
LOCATION:WXYZ Bar im Aloft Munich\,  Bayerstraße 37\, 80335 München
X-APPLE-STRUCTURED-LOCATION;VALUE=URI;X-ADDRESS= Bayerstraße 37\, München
 \, Bayern\, 80335\, Deutschland;X-APPLE-RADIUS=100;X-TITLE=WXYZ Bar im Alo
 ft Munich:geo:0,0
END:VEVENT
BEGIN:VTIMEZONE
TZID:Europe/Berlin
X-LIC-LOCATION:Europe/Berlin
BEGIN:DAYLIGHT
DTSTART:20240331T030000
TZOFFSETFROM:+0100
TZOFFSETTO:+0200
TZNAME:CEST
END:DAYLIGHT
END:VTIMEZONE
END:VCALENDAR