BEGIN:VCALENDAR
VERSION:2.0
PRODID:-//wp-events-plugin.com//7.2.3.1//EN
TZID:Europe/Berlin
X-WR-TIMEZONE:Europe/Berlin
BEGIN:VEVENT
UID:537@marketingclub-muenchen.de
DTSTART;TZID=Europe/Berlin:20210729T160000
DTEND;TZID=Europe/Berlin:20210729T180000
DTSTAMP:20210811T130442Z
URL:https://www.marketingclub-muenchen.de/veranstaltungen/viktualienmarkt-
 schmankerltour-vom-aeltesten-markt-muenchens-lernen/
SUMMARY:Viktualienmarkt-Schmankerltour: Vom ältesten Markt Münchens lerne
 n - Marketing Club München
DESCRIPTION:Marketing kommt von Markt und wo\, wenn nicht bei den alteinges
 essenen Marktleuten auf dem weltberühmten Viktualienmarkt können wir ler
 nen\, wie Produkte erfolgreich verkauft werden? Bei einer Schmankerltour 
 über den ältesten Markt Münchens erleben wir spannende Geschichten und 
 kulinarische Genüsse. 
ATTACH;FMTTYPE=image/jpeg:https://www.marketingclub-muenchen.de/wp-content
 /uploads/teaserfoto_schmankerltour.jpg
CATEGORIES:Marketing vor Ort
LOCATION:Isartor\, Isartor\, 80331 München
X-APPLE-STRUCTURED-LOCATION;VALUE=URI;X-ADDRESS=Isartor\, München\, Bayern
 \, 80331\, Deutschland;X-APPLE-RADIUS=100;X-TITLE=Isartor:geo:0,0
END:VEVENT
BEGIN:VTIMEZONE
TZID:Europe/Berlin
X-LIC-LOCATION:Europe/Berlin
BEGIN:DAYLIGHT
DTSTART:20210328T030000
TZOFFSETFROM:+0100
TZOFFSETTO:+0200
TZNAME:CEST
END:DAYLIGHT
END:VTIMEZONE
END:VCALENDAR