BEGIN:VCALENDAR
VERSION:2.0
PRODID:-//wp-events-plugin.com//7.2.3.1//EN
TZID:Europe/Berlin
X-WR-TIMEZONE:Europe/Berlin
BEGIN:VEVENT
UID:616@marketingclub-muenchen.de
DTSTART;TZID=Europe/Berlin:20230803T183000
DTEND;TZID=Europe/Berlin:20230803T210000
DTSTAMP:20230726T130144Z
URL:https://www.marketingclub-muenchen.de/veranstaltungen/ueber-den-daeche
 rn-muenchens-vol-3-august-stammtisch-save-the-date/
SUMMARY:Über den Dächern Münchens\, vol. 3: August Stammtisch - Marketin
 g Club München
DESCRIPTION:Letzte Station unserer Stammtisch-Serie „über den Dächern M
 ünchens“: Dieses Mal geht’s am Donnerstag\, den 03. August 2023\, ab 
 ins bunte Werksviertel. Auf den Dächern der Container Collective bietet d
 as Transit Rooftop & Bar den hungrigen und durstigen Netzwerkern eine Anla
 ufstelle zum Kennenlernen\, Austauschen und Spaß haben! Wir freuen uns wi
 e immer auf eine vielseitige Runde\, deshalb am besten direkt anmelden.\n
ATTACH;FMTTYPE=image/jpeg:https://www.marketingclub-muenchen.de/wp-content
 /uploads/teaser_MCM-August-Stammtisch.png
CATEGORIES:Netzwerk
LOCATION:Transit Rooftop & Bar\, Atelierstr. 4\, 81671  München
X-APPLE-STRUCTURED-LOCATION;VALUE=URI;X-ADDRESS=Atelierstr. 4\, München\, 
 Bayern\, 81671 \, Deutschland;X-APPLE-RADIUS=100;X-TITLE=Transit Rooftop &
  Bar:geo:0,0
END:VEVENT
BEGIN:VTIMEZONE
TZID:Europe/Berlin
X-LIC-LOCATION:Europe/Berlin
BEGIN:DAYLIGHT
DTSTART:20230326T030000
TZOFFSETFROM:+0100
TZOFFSETTO:+0200
TZNAME:CEST
END:DAYLIGHT
END:VTIMEZONE
END:VCALENDAR