BEGIN:VCALENDAR
VERSION:2.0
PRODID:-//wp-events-plugin.com//7.2.3.1//EN
TZID:Europe/Berlin
X-WR-TIMEZONE:Europe/Berlin
BEGIN:VEVENT
UID:33@marketingclub-muenchen.de
DTSTART;TZID=Europe/Berlin:20150625T193000
DTEND;TZID=Europe/Berlin:20150625T220000
DTSTAMP:20160113T212830Z
URL:https://www.marketingclub-muenchen.de/veranstaltungen/tesla-dispruptiv
 e-technologie-im-premium-segment/
SUMMARY:TESLA - Dispruptive Technologie im Premium Segment - Marketing Club
  München
DESCRIPTION:Eine disruptive Technologie (engl. disrupt – unterbrechen\, z
 erreißen) ist eine Innovation\, die eine bestehende Technologie\, ein bes
 tehendes Produkt oder eine bestehende Dienstleistung möglicherweise volls
 tändig verdrängt. Disruptive Innovationen sind meist am unteren Ende des
  Marktes und in neuen Märkten zu finden
ATTACH;FMTTYPE=image/jpeg:https://www.marketingclub-muenchen.de/wp-content
 /uploads/Tesla_Teaser-e1452715875729.jpg
CATEGORIES:Marketing vor Ort,Rückblick
LOCATION:TESLA Motors\, Blumenstraße 17\, 80331 München
GEO:48.1327777;11.57287550000001
X-APPLE-STRUCTURED-LOCATION;VALUE=URI;X-ADDRESS=Blumenstraße 17\, München
 \, 80331\, Deutschland;X-APPLE-RADIUS=100;X-TITLE=TESLA Motors:geo:48.1327
 777,11.57287550000001
END:VEVENT
BEGIN:VTIMEZONE
TZID:Europe/Berlin
X-LIC-LOCATION:Europe/Berlin
BEGIN:DAYLIGHT
DTSTART:20150329T030000
TZOFFSETFROM:+0100
TZOFFSETTO:+0200
TZNAME:CEST
END:DAYLIGHT
END:VTIMEZONE
END:VCALENDAR