BEGIN:VCALENDAR
VERSION:2.0
PRODID:-//wp-events-plugin.com//7.2.3.1//EN
TZID:Europe/Berlin
X-WR-TIMEZONE:Europe/Berlin
BEGIN:VEVENT
UID:170@marketingclub-muenchen.de
DTSTART;TZID=Europe/Berlin:20110406T193000
DTEND;TZID=Europe/Berlin:20110406T210000
DTSTAMP:20160208T174649Z
URL:https://www.marketingclub-muenchen.de/veranstaltungen/tesla-charged-an
 d-ready-vom-erfolg-eines-alternativen-automobilkonzeptes/
SUMMARY:Tesla: Charged and Ready - Vom Erfolg eines alternativen Automobilk
 onzeptes - Marketing Club München
DESCRIPTION:Von 0 auf 100 in 3\,7 Sekunden: Gut ein Drittel der 100 MCM-Mit
 glieder konnten sich am 06.04.2011 TESLA Motors in München mit einer kurz
 en\, aber begeisternden Spritztour von der Wirkung eines kraftvollen Antri
 ebskonzepts überzeugen.
ATTACH;FMTTYPE=image/jpeg:https://www.marketingclub-muenchen.de/wp-content
 /uploads/MCM_Teaser-e1454670837498.jpg
CATEGORIES:Marketing vor Ort,Vortrag
LOCATION:TESLA Motors\, Blumenstraße 17\, 80331 München
GEO:48.1327777;11.57287550000001
X-APPLE-STRUCTURED-LOCATION;VALUE=URI;X-ADDRESS=Blumenstraße 17\, München
 \, 80331\, Deutschland;X-APPLE-RADIUS=100;X-TITLE=TESLA Motors:geo:48.1327
 777,11.57287550000001
END:VEVENT
BEGIN:VTIMEZONE
TZID:Europe/Berlin
X-LIC-LOCATION:Europe/Berlin
BEGIN:DAYLIGHT
DTSTART:20110327T030000
TZOFFSETFROM:+0100
TZOFFSETTO:+0200
TZNAME:CEST
END:DAYLIGHT
END:VTIMEZONE
END:VCALENDAR