BEGIN:VCALENDAR
VERSION:2.0
PRODID:-//wp-events-plugin.com//7.2.3.1//EN
TZID:Europe/Berlin
X-WR-TIMEZONE:Europe/Berlin
BEGIN:VEVENT
UID:3@marketingclub-muenchen.de
DTSTART;TZID=Europe/Berlin:20151022T193000
DTEND;TZID=Europe/Berlin:20151022T213000
DTSTAMP:20160118T145836Z
URL:https://www.marketingclub-muenchen.de/veranstaltungen/success-story-kt
 m-great-brands-are-built-from-the-inside/
SUMMARY:Success Story KTM: Great Brands are built from the inside. - Market
 ing Club München
DESCRIPTION:Heute ist KTM Weltmarktführer im Offroad-Segment und vor BMW M
 otorrad\, Europas Nr. 1 im Motorrad Segment. Eine echte Success Story und 
 wer Stefan Pierer und Gerald Kiska an dem Abend auf der Bühne erleben dur
 fte\, wird zustimmen: Strong brands are built from inside.
ATTACH;FMTTYPE=image/jpeg:https://www.marketingclub-muenchen.de/wp-content
 /uploads/KTM-Teaser.jpg
CATEGORIES:Rückblick,Vortrag
LOCATION:WERK1 Café\, Grafinger Straße 6\, 81671  München
GEO:48.1237883;11.608820599999945
X-APPLE-STRUCTURED-LOCATION;VALUE=URI;X-ADDRESS=Grafinger Straße 6\, Münc
 hen\, 81671 \, Deutschland;X-APPLE-RADIUS=100;X-TITLE=WERK1 Café:geo:48.1
 237883,11.608820599999945
END:VEVENT
BEGIN:VTIMEZONE
TZID:Europe/Berlin
X-LIC-LOCATION:Europe/Berlin
BEGIN:DAYLIGHT
DTSTART:20150329T030000
TZOFFSETFROM:+0100
TZOFFSETTO:+0200
TZNAME:CEST
END:DAYLIGHT
END:VTIMEZONE
END:VCALENDAR