BEGIN:VCALENDAR
VERSION:2.0
PRODID:-//wp-events-plugin.com//7.2.3.1//EN
TZID:Europe/Berlin
X-WR-TIMEZONE:Europe/Berlin
BEGIN:VEVENT
UID:520@marketingclub-muenchen.de
DTSTART;TZID=Europe/Berlin:20210422T180000
DTEND;TZID=Europe/Berlin:20210422T193000
DTSTAMP:20210429T092728Z
URL:https://www.marketingclub-muenchen.de/veranstaltungen/storytelling-goe
 s-digital-wie-aus-daten-geschichten-werden/
SUMMARY:Storytelling goes digital: Wie aus Daten Geschichten werden - Marke
 ting Club München
DESCRIPTION:Als Rohstoff des digitalen Zeitalters beflügeln Daten die Komm
 unikation und das Marketing. Ob sie das neue Öl\, Gold oder Plutonium des
  21. Jahrhunderts sind\, haben wir in der Hand. Wie man aus Daten Erkenntn
 isse gewinnt\, worauf es beim Visualisieren ankommt und wie man damit span
 nende Geschichten erzählen\, verriet uns Dr. Hans-Wilhelm Eckert am 22.04
 .2021.
ATTACH;FMTTYPE=image/jpeg:https://www.marketingclub-muenchen.de/wp-content
 /uploads/teaser-storytelling-marketing-club-muenchen-1200x630-1.jpg
CATEGORIES:Online-Vortrag,Rückblick,Vortrag
END:VEVENT
BEGIN:VTIMEZONE
TZID:Europe/Berlin
X-LIC-LOCATION:Europe/Berlin
BEGIN:DAYLIGHT
DTSTART:20210328T030000
TZOFFSETFROM:+0100
TZOFFSETTO:+0200
TZNAME:CEST
END:DAYLIGHT
END:VTIMEZONE
END:VCALENDAR