BEGIN:VCALENDAR
VERSION:2.0
PRODID:-//wp-events-plugin.com//7.2.3.1//EN
TZID:Europe/Berlin
X-WR-TIMEZONE:Europe/Berlin
BEGIN:VEVENT
UID:134@marketingclub-muenchen.de
DTSTART;TZID=Europe/Berlin:20081128T193000
DTEND;TZID=Europe/Berlin:20081128T210000
DTSTAMP:20160122T175404Z
URL:https://www.marketingclub-muenchen.de/veranstaltungen/staat-und-untern
 ehmen-im-globalen-wettbewerb-deutschland-im-wandel/
SUMMARY:Staat und Unternehmen im globalen Wettbewerb: Deutschland im Wandel
  - Marketing Club München
DESCRIPTION:Wohin geht die deutsche Wirtschaft und wie können Unternehmen 
 und Staat gemeinsam an einer erfolgreichen wirtschaftlichen Zukunft arbeit
 en? In einem spannenden Vortrag vermittelte Prof. Dr. h.c. Roland Berger a
 m 28.11.08 den Mitglieder des Marketing-Club München seine Erkenntnisse u
 nd Prognosen
ATTACH;FMTTYPE=image/jpeg:https://www.marketingclub-muenchen.de/wp-content
 /uploads/staat_oben.jpg
CATEGORIES:Vortrag
LOCATION:IHK Akademie\, Orleanstr. 10 - 12\, 81699 München
GEO:48.12443649999999;11.59843890000002
X-APPLE-STRUCTURED-LOCATION;VALUE=URI;X-ADDRESS=Orleanstr. 10 - 12\, Münch
 en\, 81699\, Deutschland;X-APPLE-RADIUS=100;X-TITLE=IHK Akademie:geo:48.12
 443649999999,11.59843890000002
END:VEVENT
BEGIN:VTIMEZONE
TZID:Europe/Berlin
X-LIC-LOCATION:Europe/Berlin
BEGIN:STANDARD
DTSTART:20081026T020000
TZOFFSETFROM:+0200
TZOFFSETTO:+0100
TZNAME:CET
END:STANDARD
END:VTIMEZONE
END:VCALENDAR