BEGIN:VCALENDAR
VERSION:2.0
PRODID:-//wp-events-plugin.com//7.2.3.1//EN
TZID:Europe/Berlin
X-WR-TIMEZONE:Europe/Berlin
BEGIN:VEVENT
UID:635@marketingclub-muenchen.de
DTSTART;TZID=Europe/Berlin:20240307T183000
DTEND;TZID=Europe/Berlin:20240307T210000
DTSTAMP:20240505T130846Z
URL:https://www.marketingclub-muenchen.de/veranstaltungen/spielplatz-fuer-
 erwachsene-der-stammtisch-im-studio-of-wonders/
SUMMARY:Spielplatz für Erwachsene: Der Stammtisch im Studio of Wonders - M
 arketing Club München
DESCRIPTION:Im März stellten wir die Welt im wahrsten Sinne des Wortes auf
  den Kopf: Zusammen besuchten wir das Studio of Wonders in der Hofstatt in
  München! Im größten immersiven Fotostudio hatten wir die Möglichkeit 
 zu experimentieren. Danach stärkten wir uns im Prinz Myshkin gleich um di
 e Ecke.
ATTACH;FMTTYPE=image/jpeg:https://www.marketingclub-muenchen.de/wp-content
 /uploads/teaserbild-mcm-rueckblick_Stammtisch-Wonders_1200x630.png
CATEGORIES:MCM Stammtisch,Netzwerk,Rückblick
LOCATION:Studio of wonders\, Hofstatt Untergeschoss\, Sendlinger Str. 10\, 
 80331 München
X-APPLE-STRUCTURED-LOCATION;VALUE=URI;X-ADDRESS=Hofstatt Untergeschoss\, Se
 ndlinger Str. 10\, München\, Bayern\, 80331\, Deutschland;X-APPLE-RADIUS=
 100;X-TITLE=Studio of wonders:geo:0,0
END:VEVENT
BEGIN:VTIMEZONE
TZID:Europe/Berlin
X-LIC-LOCATION:Europe/Berlin
BEGIN:STANDARD
DTSTART:20231029T020000
TZOFFSETFROM:+0200
TZOFFSETTO:+0100
TZNAME:CET
END:STANDARD
END:VTIMEZONE
END:VCALENDAR