BEGIN:VCALENDAR
VERSION:2.0
PRODID:-//wp-events-plugin.com//7.2.3.1//EN
TZID:Europe/Berlin
X-WR-TIMEZONE:Europe/Berlin
BEGIN:VEVENT
UID:449@marketingclub-muenchen.de
DTSTART;TZID=Europe/Berlin:20200527T093000
DTEND;TZID=Europe/Berlin:20200527T180000
DTSTAMP:20200519T122018Z
URL:https://www.marketingclub-muenchen.de/veranstaltungen/social-conferenc
 e-2020-zu-sonderkonditionen/
SUMMARY:Social Conference 2020 ONLINE EVENT! - Marketing Club München
DESCRIPTION:Die erfolgreiche Kooperation mit der Social Conference geht ber
 eits ins fünfte Jahr. Deswegen laden wir unsere Mitglieder auch dieses Ja
 hr auf eine der wichtigsten virtuellen Digital-Konferenzen im deutschsprac
 higen Raum ein.
ATTACH;FMTTYPE=image/jpeg:https://www.marketingclub-muenchen.de/wp-content
 /uploads/teaser-socialconference-marketing-club-muenchen.png
CATEGORIES:Kooperation
END:VEVENT
BEGIN:VTIMEZONE
TZID:Europe/Berlin
X-LIC-LOCATION:Europe/Berlin
BEGIN:DAYLIGHT
DTSTART:20200329T030000
TZOFFSETFROM:+0100
TZOFFSETTO:+0200
TZNAME:CEST
END:DAYLIGHT
END:VTIMEZONE
END:VCALENDAR