BEGIN:VCALENDAR
VERSION:2.0
PRODID:-//wp-events-plugin.com//7.2.3.1//EN
TZID:Europe/Berlin
X-WR-TIMEZONE:Europe/Berlin
BEGIN:VEVENT
UID:695@marketingclub-muenchen.de
DTSTART;TZID=Europe/Berlin:20250729T180000
DTEND;TZID=Europe/Berlin:20250729T220000
DTSTAMP:20250814T100246Z
URL:https://www.marketingclub-muenchen.de/veranstaltungen/sap-garden-exklu
 sive-fuehrung-durch-muenchens-neues-arena-highlight-im-olympiapark/
SUMMARY:SAP Garden: Exklusive Führung durch Münchens neues Arena-Highligh
 t im Olympiapark - Marketing Club München
DESCRIPTION:Der SAP Garden ist Münchens neueste Arena – ein Meilenstein 
 für Sport\, Marke und Architektur. Erfahre\, wie Red Bull und SAP hier ei
 n einzigartiges Stadionerlebnis geschaffen haben. Am 29. Juli öffnete der
  Garden exklusiv für den Marketing Club München seine Türen – inklusi
 ve Vortrag\, Stadiontour und Networking.
ATTACH;FMTTYPE=image/jpeg:https://www.marketingclub-muenchen.de/wp-content
 /uploads/mcm-teaser-sap-garden-1.png
CATEGORIES:Marketing vor Ort,Rückblick,Vortrag
LOCATION:SAP Garden\, Toni-Merkens-Weg 4\, 80809 München
X-APPLE-STRUCTURED-LOCATION;VALUE=URI;X-ADDRESS=Toni-Merkens-Weg 4\, Münch
 en\, 80809\, Deutschland;X-APPLE-RADIUS=100;X-TITLE=SAP Garden:geo:0,0
END:VEVENT
BEGIN:VTIMEZONE
TZID:Europe/Berlin
X-LIC-LOCATION:Europe/Berlin
BEGIN:DAYLIGHT
DTSTART:20250330T030000
TZOFFSETFROM:+0100
TZOFFSETTO:+0200
TZNAME:CEST
END:DAYLIGHT
END:VTIMEZONE
END:VCALENDAR