BEGIN:VCALENDAR
VERSION:2.0
PRODID:-//wp-events-plugin.com//7.2.3.1//EN
TZID:Europe/Berlin
X-WR-TIMEZONE:Europe/Berlin
BEGIN:VEVENT
UID:153@marketingclub-muenchen.de
DTSTART;TZID=Europe/Berlin:20080610T193000
DTEND;TZID=Europe/Berlin:20080610T210000
DTSTAMP:20160208T121229Z
URL:https://www.marketingclub-muenchen.de/veranstaltungen/salespromotion-s
 chwappt-auf-den-kontinent/
SUMMARY:Salespromotion schwappt auf den Kontinent - Marketing Club München
DESCRIPTION:Preisausschreiben\, Verlosungen\, DVD-Player als Prämien: die 
 klassischen Promotion-Aktionen haben sicherlich ihre Berechtigung\, doch d
 er Wirkungsgrad ist weniger berauschend. "Ist die emotionale Bindung beim 
 Salsa-Tanzen\, auf Einladung einer Versicherung\, nicht wesentlich höher?
 "
ATTACH;FMTTYPE=image/jpeg:https://www.marketingclub-muenchen.de/wp-content
 /uploads/MCM_Teaser-e1454670837498.jpg
CATEGORIES:Exklusivkreis
LOCATION:IHK Akademie\, Orleanstr. 10 - 12\, 81699 München
GEO:48.12443649999999;11.59843890000002
X-APPLE-STRUCTURED-LOCATION;VALUE=URI;X-ADDRESS=Orleanstr. 10 - 12\, Münch
 en\, 81699\, Deutschland;X-APPLE-RADIUS=100;X-TITLE=IHK Akademie:geo:48.12
 443649999999,11.59843890000002
END:VEVENT
BEGIN:VTIMEZONE
TZID:Europe/Berlin
X-LIC-LOCATION:Europe/Berlin
BEGIN:DAYLIGHT
DTSTART:20080330T030000
TZOFFSETFROM:+0100
TZOFFSETTO:+0200
TZNAME:CEST
END:DAYLIGHT
END:VTIMEZONE
END:VCALENDAR