BEGIN:VCALENDAR
VERSION:2.0
PRODID:-//wp-events-plugin.com//7.2.3.1//EN
TZID:Europe/Berlin
X-WR-TIMEZONE:Europe/Berlin
BEGIN:VEVENT
UID:675@marketingclub-muenchen.de
DTSTART;TZID=Europe/Berlin:20250410T173000
DTEND;TZID=Europe/Berlin:20250410T190000
DTSTAMP:20250416T120651Z
URL:https://www.marketingclub-muenchen.de/veranstaltungen/rischart-kunst-u
 nd-radio-live-stream-aus-der-glaesernen-backstube/
SUMMARY:RischArt: Kunst und Radio Live-Stream aus der Gläsernen Backstube 
 - Marketing Club München
DESCRIPTION:42 Jahre Kunstförderung – und wir waren hautnah dabei! Die M
 ünchner Traditionsbäckerei Rischart lud uns ein\, das 16. RischArt_Proje
 kt unter dem Motto „… MISCHEN“ zu erleben – ein kreatives Highligh
 t an der Schnittstelle von Kunst und Markenführung. Wir erhielten eine ex
 klusive Führung mit Kuratorin Katharina Keller und spannende Insights vom
  Initiator Magnus Müller-Rischart\, der zeigte\, wie Kunstförderung Teil
  der Unternehmensgeschichte wurde.
ATTACH;FMTTYPE=image/jpeg:https://www.marketingclub-muenchen.de/wp-content
 /uploads/teaser_mcm_RischART_1220x630.png
CATEGORIES:Führung vor Ort,Netzwerk,Rückblick
LOCATION:Rischart Gläserne Backstube\, Buttermelcherstraße 16\, 80469 Mü
 nchen
X-APPLE-STRUCTURED-LOCATION;VALUE=URI;X-ADDRESS=Buttermelcherstraße 16\, M
 ünchen\, Bayern\, 80469\, Deutschland;X-APPLE-RADIUS=100;X-TITLE=Rischart
  Gläserne Backstube:geo:0,0
END:VEVENT
BEGIN:VTIMEZONE
TZID:Europe/Berlin
X-LIC-LOCATION:Europe/Berlin
BEGIN:DAYLIGHT
DTSTART:20250330T030000
TZOFFSETFROM:+0100
TZOFFSETTO:+0200
TZNAME:CEST
END:DAYLIGHT
END:VTIMEZONE
END:VCALENDAR