BEGIN:VCALENDAR
VERSION:2.0
PRODID:-//wp-events-plugin.com//7.2.3.1//EN
TZID:Europe/Berlin
X-WR-TIMEZONE:Europe/Berlin
BEGIN:VEVENT
UID:657@marketingclub-muenchen.de
DTSTART;TZID=Europe/Berlin:20241015T183000
DTEND;TZID=Europe/Berlin:20241015T220000
DTSTAMP:20241017T115904Z
URL:https://www.marketingclub-muenchen.de/veranstaltungen/rethinking-retai
 l-omnichannel-strategie-und-customer-experience-bei-breuninger/
SUMMARY:Rethinking Retail – Omnichannel-Strategie und Customer Experience
  bei Breuninger - Marketing Club München
DESCRIPTION:Bei der exklusiven Veranstaltung "Rethinking Retail – Omnicha
 nnel-Strategie und Customer Experience bei BREUNINGER" erfuhren wir wie de
 r Einzelhandel der Zukunft aussehen kann\, welche Chancen er in München h
 at\, welchen Herausforderungen er gegenüber steht und wie diese gemeister
 t werden können. Inklusive anschließendem Late Night Shopping und Person
 al Shopping Assistant auf Wunsch.
ATTACH;FMTTYPE=image/jpeg:https://www.marketingclub-muenchen.de/wp-content
 /uploads/Rueckblick-Collage-Breuninger.png
CATEGORIES:Marketing vor Ort,Rückblick,Vortrag
LOCATION:Breuninger\, Sendlinger Straße 3\,  80331 München
X-APPLE-STRUCTURED-LOCATION;VALUE=URI;X-ADDRESS=Sendlinger Straße 3\, Mün
 chen\,  80331\, Deutschland;X-APPLE-RADIUS=100;X-TITLE=Breuninger:geo:0,0
END:VEVENT
BEGIN:VTIMEZONE
TZID:Europe/Berlin
X-LIC-LOCATION:Europe/Berlin
BEGIN:DAYLIGHT
DTSTART:20240331T030000
TZOFFSETFROM:+0100
TZOFFSETTO:+0200
TZNAME:CEST
END:DAYLIGHT
END:VTIMEZONE
END:VCALENDAR