BEGIN:VCALENDAR
VERSION:2.0
PRODID:-//wp-events-plugin.com//7.2.3.1//EN
TZID:Europe/Berlin
X-WR-TIMEZONE:Europe/Berlin
BEGIN:VEVENT
UID:131@marketingclub-muenchen.de
DTSTART;TZID=Europe/Berlin:20100121T193000
DTEND;TZID=Europe/Berlin:20100121T210000
DTSTAMP:20160122T170529Z
URL:https://www.marketingclub-muenchen.de/veranstaltungen/red-bull-canyoum
 akeit-vom-wettbewerb-zum-social-media-ereignis/
SUMMARY:Red Bull: CanYouMakeIt? Vom Wettbewerb zum Social Media Ereignis. -
  Marketing Club München
DESCRIPTION:Mit geht nicht – ohne geht auch nicht: Social Media als Besta
 ndteil des Marketing-Mix - Red Urban stellt die Red Bull CanYouMakeIt-Kamp
 agne vor
ATTACH;FMTTYPE=image/jpeg:https://www.marketingclub-muenchen.de/wp-content
 /uploads/RedBull-Teaser.jpg
CATEGORIES:Exklusivkreis
LOCATION:IHK Akademie\, Orleanstr. 10 - 12\, 81699 München
GEO:48.12443649999999;11.59843890000002
X-APPLE-STRUCTURED-LOCATION;VALUE=URI;X-ADDRESS=Orleanstr. 10 - 12\, Münch
 en\, 81699\, Deutschland;X-APPLE-RADIUS=100;X-TITLE=IHK Akademie:geo:48.12
 443649999999,11.59843890000002
END:VEVENT
BEGIN:VTIMEZONE
TZID:Europe/Berlin
X-LIC-LOCATION:Europe/Berlin
BEGIN:STANDARD
DTSTART:20091025T020000
TZOFFSETFROM:+0200
TZOFFSETTO:+0100
TZNAME:CET
END:STANDARD
END:VTIMEZONE
END:VCALENDAR