BEGIN:VCALENDAR
VERSION:2.0
PRODID:-//wp-events-plugin.com//7.2.3.1//EN
TZID:Europe/Berlin
X-WR-TIMEZONE:Europe/Berlin
BEGIN:VEVENT
UID:604@marketingclub-muenchen.de
DTSTART;TZID=Europe/Berlin:20230516T183000
DTEND;TZID=Europe/Berlin:20230516T200000
DTSTAMP:20230510T094842Z
URL:https://www.marketingclub-muenchen.de/veranstaltungen/preispsychologie
 -im-e-commerce-wie-kleine-psychologische-hebel-das-kaufverhalten-beeinflus
 sen-koennen/
SUMMARY:Preispsychologie im E-Commerce: Wie kleine psychologische Hebel das
  Kaufverhalten beeinflussen können - Marketing Club München
DESCRIPTION:Kunden entscheiden mit dem Kopf. Doch nicht jede Entscheidung i
 st vollständig rational. Wir entscheiden eher wie Homer Simpson als Mr. S
 pock. Wie können wir preispsychologische Erkenntnisse für die Gestaltung
  der eigenen Preise und deren Kontext nutzen? Das finden wir in einem inte
 raktiven Bootcamp heraus.
ATTACH;FMTTYPE=image/jpeg:https://www.marketingclub-muenchen.de/wp-content
 /uploads/teaserbild-mcm-preispsychologie_1200x630_neuv2.png
CATEGORIES:Netzwerk,Vortrag
LOCATION:Campus M University\, Dachauer Straße 124\, 80637 München
X-APPLE-STRUCTURED-LOCATION;VALUE=URI;X-ADDRESS=Dachauer Straße 124\, Mün
 chen\, Bayern\, 80637\, Deutschland;X-APPLE-RADIUS=100;X-TITLE=Campus M Un
 iversity:geo:0,0
END:VEVENT
BEGIN:VTIMEZONE
TZID:Europe/Berlin
X-LIC-LOCATION:Europe/Berlin
BEGIN:DAYLIGHT
DTSTART:20230326T030000
TZOFFSETFROM:+0100
TZOFFSETTO:+0200
TZNAME:CEST
END:DAYLIGHT
END:VTIMEZONE
END:VCALENDAR