BEGIN:VCALENDAR
VERSION:2.0
PRODID:-//wp-events-plugin.com//7.2.3.1//EN
TZID:Europe/Berlin
X-WR-TIMEZONE:Europe/Berlin
BEGIN:VEVENT
UID:668@marketingclub-muenchen.de
DTSTART;TZID=Europe/Berlin:20250206T183000
DTEND;TZID=Europe/Berlin:20250206T220000
DTSTAMP:20250205T094245Z
URL:https://www.marketingclub-muenchen.de/veranstaltungen/pizza-meets-hits
 ter-hitverdaechtiger-stammtisch-im-februar/
SUMMARY:Pizza meets Hitster: Hitverdächtiger Stammtisch im Februar! - Mark
 eting Club München
DESCRIPTION:Neues Jahr\, neues Spiel: Bei unserem Stammtisch im Februar sta
 rten wir unser Netzwerk-Jahr mit einer besonderen Variante von Hitster\, n
 ämlich der Erweiterung von BAYERN 1. 150 Songs und eine Riesenauswahl an 
 Pizza – garniert mit Einblicken in die Markenkooperation. Wer kann da wi
 derstehen? Sei dabei!
ATTACH;FMTTYPE=image/jpeg:https://www.marketingclub-muenchen.de/wp-content
 /uploads/250207-mcm-stammtisch-teaser.png
CATEGORIES:MCM Stammtisch
LOCATION:60 Seconds to Napoli\, Sendlinger Str. 12\, 80331 München
X-APPLE-STRUCTURED-LOCATION;VALUE=URI;X-ADDRESS=Sendlinger Str. 12\, Münch
 en\, 80331\, Deutschland;X-APPLE-RADIUS=100;X-TITLE=60 Seconds to Napoli:g
 eo:0,0
END:VEVENT
BEGIN:VTIMEZONE
TZID:Europe/Berlin
X-LIC-LOCATION:Europe/Berlin
BEGIN:STANDARD
DTSTART:20241027T020000
TZOFFSETFROM:+0200
TZOFFSETTO:+0100
TZNAME:CET
END:STANDARD
END:VTIMEZONE
END:VCALENDAR