BEGIN:VCALENDAR
VERSION:2.0
PRODID:-//wp-events-plugin.com//7.2.3.1//EN
TZID:Europe/Berlin
X-WR-TIMEZONE:Europe/Berlin
BEGIN:VEVENT
UID:598@marketingclub-muenchen.de
DTSTART;TZID=Europe/Berlin:20221124T183000
DTEND;TZID=Europe/Berlin:20221124T210000
DTSTAMP:20221121T145035Z
URL:https://www.marketingclub-muenchen.de/veranstaltungen/paulaner-eine-we
 issbiermarke-begeistert-die-welt/
SUMMARY:Paulaner: Eine Weißbiermarke begeistert die Welt - Marketing Club 
 München
DESCRIPTION:Kurz nach dem Oktoberfest sprechen wir mit dem Verantwortlichen
  des weltweiten Markenaufbaus der Paulaner Gruppe. Was Henner Höper und s
 ein Team seit Herbst 2019 für die internationale Bekanntheitssteigerung d
 es Münchner Weißbiers geleistet haben und wie Brandexperience vom Feinst
 en funktioniert\, erklärt und schildert uns Marketing Director Henner Hö
 per exklusiv in den Räumen des Nockherbergs. Und weil der einmalige Gesch
 mack einfach dazu gehört\, geht der Vortrag in ein Biertasting mit Braume
 ister Uli Schindler über. 
ATTACH;FMTTYPE=image/jpeg:https://www.marketingclub-muenchen.de/wp-content
 /uploads/teaser_221124_Paulaner-Nockherberg.png
CATEGORIES:Marketing vor Ort,Vortrag
LOCATION:Paulaner am Nockherberg\, Hochstraße 77\, 81541 München
GEO:48.121869;11.58231
X-APPLE-STRUCTURED-LOCATION;VALUE=URI;X-ADDRESS=Hochstraße 77\, München\,
  Bayern\, 81541\, Deutschland;X-APPLE-RADIUS=100;X-TITLE=Paulaner am Nockh
 erberg:geo:48.121869,11.58231
END:VEVENT
BEGIN:VTIMEZONE
TZID:Europe/Berlin
X-LIC-LOCATION:Europe/Berlin
BEGIN:STANDARD
DTSTART:20221030T020000
TZOFFSETFROM:+0200
TZOFFSETTO:+0100
TZNAME:CET
END:STANDARD
END:VTIMEZONE
END:VCALENDAR