BEGIN:VCALENDAR
VERSION:2.0
PRODID:-//wp-events-plugin.com//7.2.3.1//EN
TZID:Europe/Berlin
X-WR-TIMEZONE:Europe/Berlin
BEGIN:VEVENT
UID:364@marketingclub-muenchen.de
DTSTART;TZID=Europe/Berlin:20180416T193000
DTEND;TZID=Europe/Berlin:20180416T210000
DTSTAMP:20191125T145613Z
URL:https://www.marketingclub-muenchen.de/veranstaltungen/paul-klee-oder-d
 ie-kunst-der-zielgruppenansprache-im-kunstmarkt/
SUMMARY:Paul Klee oder die Kunst der Zielgruppenansprache im Kunstmarkt - M
 arketing Club München
DESCRIPTION:Die Galerie Thomas bietet mit ihrer einzigartigen Paul Klee Aus
 stellung das Highlight im Münchner Kunstfrühling. Wir sind exklusiv vor 
 Ort mit einer privaten Führung und sprechen mit Galerist Raimund Thomas 
 über\ndie Herausforderung der ständigen Neupositionierung der Galerie im
  internationalen Kunstmarkt.\n
ATTACH;FMTTYPE=image/jpeg:https://www.marketingclub-muenchen.de/wp-content
 /uploads/teaser-galerie-thomas-marketing-club-muenchen-2.jpg
CATEGORIES:Marketing vor Ort,Rückblick
LOCATION:Galerie Thomas\, Türkenstraße 16\, 80333 München
GEO:48.14646130000001;11.573769900000002
X-APPLE-STRUCTURED-LOCATION;VALUE=URI;X-ADDRESS=Türkenstraße 16\, Münche
 n\, 80333\, Deutschland;X-APPLE-RADIUS=100;X-TITLE=Galerie Thomas:geo:48.1
 4646130000001,11.573769900000002
END:VEVENT
BEGIN:VTIMEZONE
TZID:Europe/Berlin
X-LIC-LOCATION:Europe/Berlin
BEGIN:DAYLIGHT
DTSTART:20180325T030000
TZOFFSETFROM:+0100
TZOFFSETTO:+0200
TZNAME:CEST
END:DAYLIGHT
END:VTIMEZONE
END:VCALENDAR