BEGIN:VCALENDAR
VERSION:2.0
PRODID:-//wp-events-plugin.com//7.2.3.1//EN
TZID:Europe/Berlin
X-WR-TIMEZONE:Europe/Berlin
BEGIN:VEVENT
UID:32@marketingclub-muenchen.de
DTSTART;TZID=Europe/Berlin:20150630T193000
DTEND;TZID=Europe/Berlin:20150630T210000
DTSTAMP:20160308T142032Z
URL:https://www.marketingclub-muenchen.de/veranstaltungen/paul-hartmann/
SUMMARY:Neupositionierung der Marke Hartmann: Herausforderungen und Ansporn
  - Marketing Club München
DESCRIPTION:Beim durchschnittlichen Verbraucher löst die Marke Hartmann zu
 nächst eher weniger dynamische und progressive Konnotationen aus: viel Tr
 adition\, konservativ\, seriös\, verantwortungsbewusst\, aber auch etwas 
 unaufdringlich und verstaubt. Bei Produkten denkt man am ehesten an Pflast
 er und an den Verbandskasten irgendwo im Auto.
ATTACH;FMTTYPE=image/jpeg:https://www.marketingclub-muenchen.de/wp-content
 /uploads/Hartmann-Teaser.jpg
CATEGORIES:Rückblick,Vortrag
LOCATION:Design Offices Highlight Towers\, Mies-van-der-Rohe Straße 8\, To
 wer 2\, 80807 München
GEO:48.17646;11.592211499999962
X-APPLE-STRUCTURED-LOCATION;VALUE=URI;X-ADDRESS=Mies-van-der-Rohe Straße 8
 \, Tower 2\, München\, 80807\, Deutschland;X-APPLE-RADIUS=100;X-TITLE=Des
 ign Offices Highlight Towers:geo:48.17646,11.592211499999962
END:VEVENT
BEGIN:VTIMEZONE
TZID:Europe/Berlin
X-LIC-LOCATION:Europe/Berlin
BEGIN:DAYLIGHT
DTSTART:20150329T030000
TZOFFSETFROM:+0100
TZOFFSETTO:+0200
TZNAME:CEST
END:DAYLIGHT
END:VTIMEZONE
END:VCALENDAR