BEGIN:VCALENDAR
VERSION:2.0
PRODID:-//wp-events-plugin.com//7.2.3.1//EN
TZID:Europe/Berlin
X-WR-TIMEZONE:Europe/Berlin
BEGIN:VEVENT
UID:550@marketingclub-muenchen.de
DTSTART;TZID=Europe/Berlin:20211014T180000
DTEND;TZID=Europe/Berlin:20211014T200000
DTSTAMP:20211016T094427Z
URL:https://www.marketingclub-muenchen.de/veranstaltungen/oktober-stammtis
 ch-von-knoedeln-zu-kunst-und-kultur-mit-fuehrung/
SUMMARY:Oktober-Stammtisch: Von Knödeln zu Kunst und Kultur – mit Führu
 ng! - Marketing Club München
DESCRIPTION:Diesen Monat war's bunt: Wir trafen uns im Werksviertel Mitte a
 m Ostbahnhof! Wo früher Knödel gedreht wurden\, entsteht heute eine bunt
 e Mischung aus Kunst\, Kultur\, Arbeit und Leben. Bei der Führung inklusi
 ve: Exklusive Einblicke über Vision und künftige Projekte.\n
ATTACH;FMTTYPE=image/jpeg:https://www.marketingclub-muenchen.de/wp-content
 /uploads/mcm-werksviertel-marketing-club-muenchen-04.jpg
CATEGORIES:MCM Stammtisch,Vortrag
LOCATION:Container Collective\, Atelierstraße 4\, 81671 München
X-APPLE-STRUCTURED-LOCATION;VALUE=URI;X-ADDRESS=Atelierstraße 4\, München
 \, 81671\, Deutschland;X-APPLE-RADIUS=100;X-TITLE=Container Collective:geo
 :0,0
END:VEVENT
BEGIN:VTIMEZONE
TZID:Europe/Berlin
X-LIC-LOCATION:Europe/Berlin
BEGIN:DAYLIGHT
DTSTART:20210328T030000
TZOFFSETFROM:+0100
TZOFFSETTO:+0200
TZNAME:CEST
END:DAYLIGHT
END:VTIMEZONE
END:VCALENDAR