BEGIN:VCALENDAR
VERSION:2.0
PRODID:-//wp-events-plugin.com//7.2.3.1//EN
TZID:Europe/Berlin
X-WR-TIMEZONE:Europe/Berlin
BEGIN:VEVENT
UID:530@marketingclub-muenchen.de
DTSTART;TZID=Europe/Berlin:20210630T190000
DTEND;TZID=Europe/Berlin:20210630T203000
DTSTAMP:20210701T145744Z
URL:https://www.marketingclub-muenchen.de/veranstaltungen/nonverbale-kommu
 nikation-decodieren-welche-beduerfnisse-und-einwaende-hat-mein-gegenueber-
 gerade/
SUMMARY:Nonverbale Kommunikation decodieren: Welche Bedürfnisse und Einwä
 nde hat mein Gegenüber gerade? - Marketing Club München
DESCRIPTION:Mitarbeitergesprächen und Verhandlungen mit Kunden ist es gut 
 zu verstehen\, welche Bedürfnisse und Einwände mein Gegenüber gerade ha
 t. Das Webinar liefert wertvolle Insights in das Gebiet der Mimikresonanz.
  Wie kann man Mimikexpressionen erkennen – und damit nonverbale Einwands
 ignale und Inkongruenzen? 
ATTACH;FMTTYPE=image/jpeg:https://www.marketingclub-muenchen.de/wp-content
 /uploads/teaser-mimikresonanz-marketing-club-muenchen-1200x630-1.jpg
CATEGORIES:MCM Academy,Online-Vortrag,Vortrag
LOCATION:Online / Zoom (Wird per Mail bekanntgegeben)\, Zoom\,  Web
X-APPLE-STRUCTURED-LOCATION;VALUE=URI;X-ADDRESS=Zoom\, Web\, Deutschland;X-
 APPLE-RADIUS=100;X-TITLE=Online / Zoom (Wird per Mail bekanntgegeben):geo:
 0,0
END:VEVENT
BEGIN:VTIMEZONE
TZID:Europe/Berlin
X-LIC-LOCATION:Europe/Berlin
BEGIN:DAYLIGHT
DTSTART:20210328T030000
TZOFFSETFROM:+0100
TZOFFSETTO:+0200
TZNAME:CEST
END:DAYLIGHT
END:VTIMEZONE
END:VCALENDAR