BEGIN:VCALENDAR
VERSION:2.0
PRODID:-//wp-events-plugin.com//7.2.3.1//EN
TZID:Europe/Berlin
X-WR-TIMEZONE:Europe/Berlin
BEGIN:VEVENT
UID:342@marketingclub-muenchen.de
DTSTART;TZID=Europe/Berlin;VALUE=DATE:20180426
DTEND;TZID=Europe/Berlin;VALUE=DATE:20180429
DTSTAMP:20171018T225114Z
URL:https://www.marketingclub-muenchen.de/veranstaltungen/njt-nationale-ju
 mp-tagung-2018/
SUMMARY:NJT - Nationale JuMP Tagung 2018 - Marketing Club München
DESCRIPTION:Ob Münchner Kindl\, zuagroast oder von auswärts – alle sind
  eingeladen zur NJT 2018 ins Isarvalley\, für ein zünftiges Beisammensei
 n mit den Marketingspezialisten von morgen.\nDie NJT ist ein Format des De
 utschen Marketing Verbandes e.V. das im kommenden Jahr bereits zum 29. Mal
  stattfindet und JuMPs  aus allen Regionen Deutschlands für 3 ereignisrei
 che Tage zusammen bringt. Herzstück der Veranstaltung ist der Worshop-Tag
  an dem die Nachwuchs- Fach- und Führungskräfte für Münchner Unternehm
 en kreative Konzepte\, coole Strategien und andersartige Kommunikations- u
 nd Vertriebswege erarbeiten.
ATTACH;FMTTYPE=image/jpeg:https://www.marketingclub-muenchen.de/wp-content
 /uploads/Unbenannt_2.png
CATEGORIES:Marketing Pioniere
END:VEVENT
BEGIN:VTIMEZONE
TZID:Europe/Berlin
X-LIC-LOCATION:Europe/Berlin
BEGIN:DAYLIGHT
DTSTART:20180325T030000
TZOFFSETFROM:+0100
TZOFFSETTO:+0200
TZNAME:CEST
END:DAYLIGHT
END:VTIMEZONE
END:VCALENDAR