BEGIN:VCALENDAR
VERSION:2.0
PRODID:-//wp-events-plugin.com//7.2.3.1//EN
TZID:Europe/Berlin
X-WR-TIMEZONE:Europe/Berlin
BEGIN:VEVENT
UID:393@marketingclub-muenchen.de
DTSTART;TZID=Europe/Berlin;VALUE=DATE:20190321
DTEND;TZID=Europe/Berlin;VALUE=DATE:20190324
DTSTAMP:20190205T093801Z
URL:https://www.marketingclub-muenchen.de/veranstaltungen/njt-19-nationale
 -jump-tagung-2019-in-hamburg/
SUMMARY:NJT 19 - Nationale JuMP Tagung 2019 in Hamburg - Marketing Club Mü
 nchen
DESCRIPTION:Die Nationale JuMP Tagung (NJT) ist DIE größte nationale Mark
 eting-Konferenz für Junior Marketing Professionals (JuMPs) bis 35 Jahre. 
 Gastgeber der 30. NJT ist der Marketing Club Hamburg e.V.. Jetzt anmelden!
ATTACH;FMTTYPE=image/jpeg:https://www.marketingclub-muenchen.de/wp-content
 /uploads/njt19.jpg
CATEGORIES:Marketing Pioniere
LOCATION:Hamburg\, tbd\,  Hamburg
X-APPLE-STRUCTURED-LOCATION;VALUE=URI;X-ADDRESS=tbd\, Hamburg\, Deutschland
 ;X-APPLE-RADIUS=100;X-TITLE=Hamburg:geo:0,0
END:VEVENT
BEGIN:VTIMEZONE
TZID:Europe/Berlin
X-LIC-LOCATION:Europe/Berlin
BEGIN:STANDARD
DTSTART:20181028T020000
TZOFFSETFROM:+0200
TZOFFSETTO:+0100
TZNAME:CET
END:STANDARD
END:VTIMEZONE
END:VCALENDAR