BEGIN:VCALENDAR
VERSION:2.0
PRODID:-//wp-events-plugin.com//7.2.3.1//EN
TZID:Europe/Berlin
X-WR-TIMEZONE:Europe/Berlin
BEGIN:VEVENT
UID:547@marketingclub-muenchen.de
DTSTART;TZID=Europe/Berlin:20211026T183000
DTEND;TZID=Europe/Berlin:20211026T210000
DTSTAMP:20211111T093113Z
URL:https://www.marketingclub-muenchen.de/veranstaltungen/next-generation-
 sustainability-werte-die-morgen-ueberzeugen/
SUMMARY:Next Generation Sustainability: Werte\, die morgen überzeugen - Ma
 rketing Club München
DESCRIPTION:Geplant war ein Kreuzverhör\, eine Diskussion – herauskam: e
 in motivierender Dreiklang für eine grüne Zukunft\, voll mit hörenswert
 en Best Practice Beispielen aus der Ernährungs- und der Modebranche sowie
  dem Personalbereich. 
ATTACH;FMTTYPE=image/jpeg:https://www.marketingclub-muenchen.de/wp-content
 /uploads/teaser-nachhaltigkeit-marketing-club-muenchen-1200x630-3.jpg
CATEGORIES:Online-Vortrag,Rückblick,Vortrag
LOCATION:Marketing Club München\, Edelsbergstraße 8\, 80686 München
X-APPLE-STRUCTURED-LOCATION;VALUE=URI;X-ADDRESS=Edelsbergstraße 8\, Münch
 en\, Bayern\, 80686\, Deutschland;X-APPLE-RADIUS=100;X-TITLE=Marketing Clu
 b München:geo:0,0
END:VEVENT
BEGIN:VTIMEZONE
TZID:Europe/Berlin
X-LIC-LOCATION:Europe/Berlin
BEGIN:DAYLIGHT
DTSTART:20210328T030000
TZOFFSETFROM:+0100
TZOFFSETTO:+0200
TZNAME:CEST
END:DAYLIGHT
END:VTIMEZONE
END:VCALENDAR