BEGIN:VCALENDAR
VERSION:2.0
PRODID:-//wp-events-plugin.com//7.2.3.1//EN
TZID:Europe/Berlin
X-WR-TIMEZONE:Europe/Berlin
BEGIN:VEVENT
UID:21@marketingclub-muenchen.de
DTSTART;TZID=Europe/Berlin:20150317T100000
DTEND;TZID=Europe/Berlin:20150317T180000
DTSTAMP:20160118T152447Z
URL:https://www.marketingclub-muenchen.de/veranstaltungen/nationaler-jump-
 day-2015/
SUMMARY:Nationaler JuMP Day 2015: Make your Employer Brand JuMP - Marketing
  Club München
DESCRIPTION:Was bedeutet Employer Branding im Jahr 2015? Wie selektiert man
  seine Zielgruppe und worauf muss bei der Ansprache geachtet werden? Wie g
 ewinnt man Fachkräfte in dem Markt\, der die höchsten Einstiegsgehälter
  zahlt?
ATTACH;FMTTYPE=image/jpeg:https://www.marketingclub-muenchen.de/wp-content
 /uploads/jump-day.jpg
CATEGORIES:Marketing Pioniere,Rückblick
LOCATION:Kanzlei Noerr\, Barer Str. 9\, 80333 München
GEO:48.143261;11.568020199999978
X-APPLE-STRUCTURED-LOCATION;VALUE=URI;X-ADDRESS=Barer Str. 9\, München\, 8
 0333\, Deutschland;X-APPLE-RADIUS=100;X-TITLE=Kanzlei Noerr:geo:48.143261,
 11.568020199999978
END:VEVENT
BEGIN:VTIMEZONE
TZID:Europe/Berlin
X-LIC-LOCATION:Europe/Berlin
BEGIN:STANDARD
DTSTART:20141026T020000
TZOFFSETFROM:+0200
TZOFFSETTO:+0100
TZNAME:CET
END:STANDARD
END:VTIMEZONE
END:VCALENDAR