BEGIN:VCALENDAR
VERSION:2.0
PRODID:-//wp-events-plugin.com//7.2.3.1//EN
TZID:Europe/Berlin
X-WR-TIMEZONE:Europe/Berlin
BEGIN:VEVENT
UID:660@marketingclub-muenchen.de
DTSTART;TZID=Europe/Berlin:20241112T183000
DTEND;TZID=Europe/Berlin:20241112T220000
DTSTAMP:20241203T121331Z
URL:https://www.marketingclub-muenchen.de/veranstaltungen/naming-and-brand
 ing-marken-in-nach-krisen-zeiten/
SUMMARY:Naming and Branding – Marken in (Nach)-Krisen-Zeiten - Marketing 
 Club München
DESCRIPTION:Vor Corona war Corona eine Biermarke. Aber Krisen verändern M
 ärkte und Marken. Welche Marken-Fallen drohen Unternehmen und welche Stra
 tegien führen zum Erfolg? Peter A. Ströll zeigt uns\, wie Sie Ihre Marke
  in unsicheren Zeiten schützen und für die Zukunft stark aufstellen. Den
 n nach der Krise ist vor der Krise!
ATTACH;FMTTYPE=image/jpeg:https://www.marketingclub-muenchen.de/wp-content
 /uploads/teaser_NamingBranding-Nambos_mcm.png
CATEGORIES:Rückblick,Vortrag
LOCATION:SOHO 1.000 Satellites\, Koppstraße 12\,  81379 München
X-APPLE-STRUCTURED-LOCATION;VALUE=URI;X-ADDRESS=Koppstraße 12\, München\,
  Bayern\,  81379\, Deutschland;X-APPLE-RADIUS=100;X-TITLE=SOHO 1.000 Satel
 lites:geo:0,0
END:VEVENT
BEGIN:VTIMEZONE
TZID:Europe/Berlin
X-LIC-LOCATION:Europe/Berlin
BEGIN:STANDARD
DTSTART:20241027T020000
TZOFFSETFROM:+0200
TZOFFSETTO:+0100
TZNAME:CET
END:STANDARD
END:VTIMEZONE
END:VCALENDAR