BEGIN:VCALENDAR
VERSION:2.0
PRODID:-//wp-events-plugin.com//7.2.3.1//EN
TZID:Europe/Berlin
X-WR-TIMEZONE:Europe/Berlin
BEGIN:VEVENT
UID:593@marketingclub-muenchen.de
DTSTART;TZID=Europe/Berlin:20230126T183000
DTEND;TZID=Europe/Berlin:20230126T200000
DTSTAMP:20230209T115230Z
URL:https://www.marketingclub-muenchen.de/veranstaltungen/nachhaltigkeit-m
 essen-und-meistern-in-der-heutigen-wirtschaftswelt/
SUMMARY:Nachhaltigkeit: Messen und meistern in der heutigen Wirtschaftswelt
 ! - Marketing Club München
DESCRIPTION:Nachhaltigkeit in Unternehmen entwickelt sich immer mehr zum Me
 gathema\, an dem keine Führungsetage mehr vorbeikommt. Wie man dieses The
 ma anpackt\, auf was zu achten ist und wo die Schwierigkeiten lauern\, erf
 uhren wir an diesem Vortragsabend von zwei Experten aus der Praxis.
ATTACH;FMTTYPE=image/jpeg:https://www.marketingclub-muenchen.de/wp-content
 /uploads/230126_Nachhaltigkeit.png
CATEGORIES:Online-Vortrag,Rückblick,Vortrag
LOCATION:MCM-Hybrid (vor Ort und online): Geschäftsstelle\, Edelsbergstr. 
 8\, 80686 München und online per Zoom
X-APPLE-STRUCTURED-LOCATION;VALUE=URI;X-ADDRESS=Edelsbergstr. 8\, München 
 und online per Zoom\, 80686\, Deutschland;X-APPLE-RADIUS=100;X-TITLE=MCM-H
 ybrid (vor Ort und online): Geschäftsstelle:geo:0,0
END:VEVENT
BEGIN:VTIMEZONE
TZID:Europe/Berlin
X-LIC-LOCATION:Europe/Berlin
BEGIN:STANDARD
DTSTART:20221030T020000
TZOFFSETFROM:+0200
TZOFFSETTO:+0100
TZNAME:CET
END:STANDARD
END:VTIMEZONE
END:VCALENDAR