BEGIN:VCALENDAR
VERSION:2.0
PRODID:-//wp-events-plugin.com//7.2.3.1//EN
TZID:Europe/Berlin
X-WR-TIMEZONE:Europe/Berlin
BEGIN:VEVENT
UID:536@marketingclub-muenchen.de
DTSTART;TZID=Europe/Berlin:20210629T130000
DTEND;TZID=Europe/Berlin:20210629T180000
DTSTAMP:20210630T093051Z
URL:https://www.marketingclub-muenchen.de/veranstaltungen/munich-marketing
 -week-2021-the-step-beyond/
SUMMARY:MUNICH MARKETING WEEK 2021 - The Step beyond - Marketing Club Münc
 hen
DESCRIPTION:Vom 29.Juni bis 01. Juli bringt W&V die Branche digital zusamme
 n\, um die wichtigsten Themen im Marketing zu diskutieren. Schwerpunkte si
 nd: The Customer\, The Tech und The Unexpected. Als Mitglied des Marketing
  Club München erhalten Sie exklusiv 50% Preisvorteil: € 124\,50 anstatt
  € 249\,- zzgl. Mwst 
ATTACH;FMTTYPE=image/jpeg:https://www.marketingclub-muenchen.de/wp-content
 /uploads/Ausschnitt_MMW_2021_Shop_Desktop-1500x535_20210419w85udg3KZvnpf_1
 920x1920.jpg
CATEGORIES:Kooperation,Online-Vortrag
END:VEVENT
BEGIN:VTIMEZONE
TZID:Europe/Berlin
X-LIC-LOCATION:Europe/Berlin
BEGIN:DAYLIGHT
DTSTART:20210328T030000
TZOFFSETFROM:+0100
TZOFFSETTO:+0200
TZNAME:CEST
END:DAYLIGHT
END:VTIMEZONE
END:VCALENDAR