BEGIN:VCALENDAR
VERSION:2.0
PRODID:-//wp-events-plugin.com//7.2.3.1//EN
TZID:Europe/Berlin
X-WR-TIMEZONE:Europe/Berlin
BEGIN:VEVENT
UID:76@marketingclub-muenchen.de
DTSTART;TZID=Europe/Berlin:20100205T190000
DTEND;TZID=Europe/Berlin:20100205T230000
DTSTAMP:20160108T105303Z
URL:https://www.marketingclub-muenchen.de/veranstaltungen/muenchner-market
 ingpreises-2010-bmw/
SUMMARY:Münchner Marketingpreises 2010: BMW - Marketing Club München
DESCRIPTION:Am 5. Februar 2010 verlieh der Marketing-Club München zum vier
 ten Mal den Münchner Marketing-Preis. Ausgezeichnet wird ein in München 
 oder der Region ansässiges Unternehmen für erfolgreiches Marketing. 
ATTACH;FMTTYPE=image/jpeg:https://www.marketingclub-muenchen.de/wp-content
 /uploads/BMW_Cover.jpg
CATEGORIES:Marketingpreis,Rückblick
LOCATION:Südbad\, Valleystr. 27\, 81371 München
GEO:48.1172653;11.54743039999994
X-APPLE-STRUCTURED-LOCATION;VALUE=URI;X-ADDRESS=Valleystr. 27\, München\, 
 81371\, Deutschland;X-APPLE-RADIUS=100;X-TITLE=Südbad:geo:48.1172653,11.5
 4743039999994
END:VEVENT
BEGIN:VTIMEZONE
TZID:Europe/Berlin
X-LIC-LOCATION:Europe/Berlin
BEGIN:STANDARD
DTSTART:20091025T020000
TZOFFSETFROM:+0200
TZOFFSETTO:+0100
TZNAME:CET
END:STANDARD
END:VTIMEZONE
END:VCALENDAR