BEGIN:VCALENDAR
VERSION:2.0
PRODID:-//wp-events-plugin.com//7.2.3.1//EN
TZID:Europe/Berlin
X-WR-TIMEZONE:Europe/Berlin
BEGIN:VEVENT
UID:387@marketingclub-muenchen.de
DTSTART;TZID=Europe/Berlin:20181108T190000
DTEND;TZID=Europe/Berlin:20181108T230000
DTSTAMP:20181114T161032Z
URL:https://www.marketingclub-muenchen.de/veranstaltungen/muenchner-market
 ingpreis-2018/
SUMMARY:Münchner Marketingpreis 2018: Hirmer - Marketing Club München
DESCRIPTION:Das Familienunternehmen HIRMER erhält für das erfolgreiche Ma
 rketing-Konzept KAUF LOKAL den Münchner Marketingpreis 2018.
ATTACH;FMTTYPE=image/jpeg:https://www.marketingclub-muenchen.de/wp-content
 /uploads/teaser-muenchner-marketing-preis-verleihung-2018.jpg
CATEGORIES:Marketingpreis,Rückblick
LOCATION:Porsche Zentrum München\, Schleibingerstr. 8\, 80669 München
GEO:48.129478;11.591197999999963
X-APPLE-STRUCTURED-LOCATION;VALUE=URI;X-ADDRESS=Schleibingerstr. 8\, Münch
 en\, 80669\, Deutschland;X-APPLE-RADIUS=100;X-TITLE=Porsche Zentrum Münch
 en:geo:48.129478,11.591197999999963
END:VEVENT
BEGIN:VTIMEZONE
TZID:Europe/Berlin
X-LIC-LOCATION:Europe/Berlin
BEGIN:STANDARD
DTSTART:20181028T020000
TZOFFSETFROM:+0200
TZOFFSETTO:+0100
TZNAME:CET
END:STANDARD
END:VTIMEZONE
END:VCALENDAR