BEGIN:VCALENDAR
VERSION:2.0
PRODID:-//wp-events-plugin.com//7.2.3.1//EN
TZID:Europe/Berlin
X-WR-TIMEZONE:Europe/Berlin
BEGIN:VEVENT
UID:296@marketingclub-muenchen.de
DTSTART;TZID=Europe/Berlin:20161011T193000
DTEND;TZID=Europe/Berlin:20161011T210000
DTSTAMP:20161012T124604Z
URL:https://www.marketingclub-muenchen.de/veranstaltungen/motel-one-deutsc
 her-marketing-preistraeger-2015/
SUMMARY:Motel One: Erfolgsgeschichte des Deutschen Marketing Preisträgers 
 2015 - Marketing Club München
DESCRIPTION:Mit glasklarer Marken-Position\, einem hochattraktiven Angebot 
 für Städte-Kurzreisende und einer unverwechselbaren Marken-CI hat Motel 
 One ein Erfolgsrezept kreiert\, das Reisende glücklich macht und dem Unte
 rnehmen und der Marke einen durchschlagenden Erfolg beschert - mit anhalte
 nder nationaler und internationaler Expansion. CMO Ursula Schelle-Müller 
 präsentiert die Einzelheiten der Erfolgsformel.
ATTACH;FMTTYPE=image/jpeg:https://www.marketingclub-muenchen.de/wp-content
 /uploads/Teaser-Motel-One2.jpg
CATEGORIES:Vortrag
LOCATION:Design Offices Highlight Towers\, Mies-van-der-Rohe Straße 8\, To
 wer 2\, 80807 München
GEO:48.17646;11.592211499999962
X-APPLE-STRUCTURED-LOCATION;VALUE=URI;X-ADDRESS=Mies-van-der-Rohe Straße 8
 \, Tower 2\, München\, 80807\, Deutschland;X-APPLE-RADIUS=100;X-TITLE=Des
 ign Offices Highlight Towers:geo:48.17646,11.592211499999962
END:VEVENT
BEGIN:VTIMEZONE
TZID:Europe/Berlin
X-LIC-LOCATION:Europe/Berlin
BEGIN:DAYLIGHT
DTSTART:20160327T030000
TZOFFSETFROM:+0100
TZOFFSETTO:+0200
TZNAME:CEST
END:DAYLIGHT
END:VTIMEZONE
END:VCALENDAR