BEGIN:VCALENDAR
VERSION:2.0
PRODID:-//wp-events-plugin.com//7.2.3.1//EN
TZID:Europe/Berlin
X-WR-TIMEZONE:Europe/Berlin
BEGIN:VEVENT
UID:326@marketingclub-muenchen.de
DTSTART;TZID=Europe/Berlin:20170516T193000
DTEND;TZID=Europe/Berlin:20170516T210000
DTSTAMP:20170530T123014Z
URL:https://www.marketingclub-muenchen.de/veranstaltungen/merkur-tz-10-the
 sen-zur-digitalisierung-von-medienunternehmen/
SUMMARY:Merkur TZ - 10 Thesen zur Digitalisierung von Medienunternehmen - M
 arketing Club München
DESCRIPTION:Nach dem ersten Hype des Web-Booms ist Ernüchterung eingetrete
 n. Die Digitalisierung ist anstrengend und produziert nicht von alleine gr
 oße Gewinne. Wie schafft es ein Medienhaus\, den demographischen Wandel z
 u managen und sich innerhalb der digitalen Transformation zukunftsgerichte
 t zu positionieren? 
ATTACH;FMTTYPE=image/jpeg:https://www.marketingclub-muenchen.de/wp-content
 /uploads/teaser-muenchner-merkur.jpg
CATEGORIES:Marketing vor Ort,Rückblick,Vortrag
LOCATION:Münchener Zeitungs-Verlag GmbH\, Paul-Heyse-Str. 2-4 \, 80336 Mü
 nchen
GEO:48.1385649;11.555718100000036
X-APPLE-STRUCTURED-LOCATION;VALUE=URI;X-ADDRESS=Paul-Heyse-Str. 2-4 \, Mün
 chen\, 80336\, Deutschland;X-APPLE-RADIUS=100;X-TITLE=Münchener Zeitungs-
 Verlag GmbH:geo:48.1385649,11.555718100000036
END:VEVENT
BEGIN:VTIMEZONE
TZID:Europe/Berlin
X-LIC-LOCATION:Europe/Berlin
BEGIN:DAYLIGHT
DTSTART:20170326T030000
TZOFFSETFROM:+0100
TZOFFSETTO:+0200
TZNAME:CEST
END:DAYLIGHT
END:VTIMEZONE
END:VCALENDAR