BEGIN:VCALENDAR
VERSION:2.0
PRODID:-//wp-events-plugin.com//7.2.3.1//EN
TZID:Europe/Berlin
X-WR-TIMEZONE:Europe/Berlin
BEGIN:VEVENT
UID:664@marketingclub-muenchen.de
DTSTART;TZID=Europe/Berlin:20250120T183000
DTEND;TZID=Europe/Berlin:20250120T220000
DTSTAMP:20250402T074632Z
URL:https://www.marketingclub-muenchen.de/veranstaltungen/meetic-wenn-erfo
 lgreiches-marketing-zu-glueck-und-liebe-fuehrt-einblicke-in-die-online-dat
 ing-branche/
SUMMARY:Meetic: Wenn erfolgreiches Marketing zu Glück und Liebe führt - E
 inblicke in die Online-Dating-Branche - Marketing Club München
DESCRIPTION:Wie findet die Liebe den richtigen Rahmen? Anna Robbert\, Count
 ry Managerin DACH bei Meetic\, gibt Einblicke in die Kunst des Marketings 
 für Dating-Plattformen. Wir erlebten eine Reise durch Strategien und Kamp
 agnen!
ATTACH;FMTTYPE=image/jpeg:https://www.marketingclub-muenchen.de/wp-content
 /uploads/teaser-mcm_Match.com_-1.png
CATEGORIES:Rückblick,Vortrag
LOCATION:smartvillage Bogenhausen\, Rosenkavalierplatz 13\, 81925 München
X-APPLE-STRUCTURED-LOCATION;VALUE=URI;X-ADDRESS=Rosenkavalierplatz 13\, Mü
 nchen\, Bayern\, 81925\, Deutschland;X-APPLE-RADIUS=100;X-TITLE=smartvilla
 ge Bogenhausen:geo:0,0
END:VEVENT
BEGIN:VTIMEZONE
TZID:Europe/Berlin
X-LIC-LOCATION:Europe/Berlin
BEGIN:STANDARD
DTSTART:20241027T020000
TZOFFSETFROM:+0200
TZOFFSETTO:+0100
TZNAME:CET
END:STANDARD
END:VTIMEZONE
END:VCALENDAR