BEGIN:VCALENDAR
VERSION:2.0
PRODID:-//wp-events-plugin.com//7.2.3.1//EN
TZID:Europe/Berlin
X-WR-TIMEZONE:Europe/Berlin
BEGIN:VEVENT
UID:441@marketingclub-muenchen.de
DTSTART;TZID=Europe/Berlin:20191107T193000
DTEND;TZID=Europe/Berlin:20191107T223000
DTSTAMP:20200429T192833Z
URL:https://www.marketingclub-muenchen.de/veranstaltungen/mcm-stammtisch-i
 m-november-von-zu-am-koenigsplatz/
SUMMARY:MCM Stammtisch im November: Von &amp\; Zu am Königsplatz - Marketi
 ng Club München
DESCRIPTION:Der MCM Stammtisch - hier treffen sich alle MC-Mitglieder und I
 nteressierte zum Networking in entspannter Atmosphäre. Ob Austausch übe
 r Branchen-News\, Club-Infos und anstehende Event (-formate) oder aktuelle
 s Münchener Stadtgespräch.
ATTACH;FMTTYPE=image/jpeg:https://www.marketingclub-muenchen.de/wp-content
 /uploads/VonZu.jpg
CATEGORIES:Marketing Pioniere,Marketing vor Ort,MCM Stammtisch
LOCATION:Von&amp\;Zu\, Luisenstraße 22\, 80333 München
X-APPLE-STRUCTURED-LOCATION;VALUE=URI;X-ADDRESS=Luisenstraße 22\, München
 \, 80333\, Deutschland;X-APPLE-RADIUS=100;X-TITLE=Von&Zu:geo:0,0
END:VEVENT
BEGIN:VTIMEZONE
TZID:Europe/Berlin
X-LIC-LOCATION:Europe/Berlin
BEGIN:STANDARD
DTSTART:20191027T020000
TZOFFSETFROM:+0200
TZOFFSETTO:+0100
TZNAME:CET
END:STANDARD
END:VTIMEZONE
END:VCALENDAR