BEGIN:VCALENDAR
VERSION:2.0
PRODID:-//wp-events-plugin.com//7.2.3.1//EN
TZID:Europe/Berlin
X-WR-TIMEZONE:Europe/Berlin
BEGIN:VEVENT
UID:439@marketingclub-muenchen.de
DTSTART;TZID=Europe/Berlin:20191212T190000
DTEND;TZID=Europe/Berlin:20191212T220000
DTSTAMP:20200429T192547Z
URL:https://www.marketingclub-muenchen.de/veranstaltungen/mcm-stammtisch-i
 m-dezember/
SUMMARY:MCM-Stammtisch im Dezember auf dem Tollwood-Winterfestival - Market
 ing Club München
DESCRIPTION:Der MCM Stammtisch - hier treffen sich alle MC-Mitglieder und I
 nteressierte zum Networking in entspannter Atmosphäre. Ob Austausch übe
 r Branchen-News\, Club-Infos und anstehende Event (-formate) oder aktuelle
 s Münchener Stadtgespräch.
ATTACH;FMTTYPE=image/jpeg:https://www.marketingclub-muenchen.de/wp-content
 /uploads/Tollwood-Winterfestival-e1573676037588.jpg
CATEGORIES:Marketing Pioniere,Marketing vor Ort,MCM Stammtisch
LOCATION:Theresienwiese\, U4 Haltestelle\, Ausgang Theresienwiese\, 80336 M
 ünchen
X-APPLE-STRUCTURED-LOCATION;VALUE=URI;X-ADDRESS=U4 Haltestelle\, Ausgang Th
 eresienwiese\, München\, 80336\, Deutschland;X-APPLE-RADIUS=100;X-TITLE=T
 heresienwiese:geo:0,0
END:VEVENT
BEGIN:VTIMEZONE
TZID:Europe/Berlin
X-LIC-LOCATION:Europe/Berlin
BEGIN:STANDARD
DTSTART:20191027T020000
TZOFFSETFROM:+0200
TZOFFSETTO:+0100
TZNAME:CET
END:STANDARD
END:VTIMEZONE
END:VCALENDAR