BEGIN:VCALENDAR
VERSION:2.0
PRODID:-//wp-events-plugin.com//7.2.3.1//EN
TZID:Europe/Berlin
X-WR-TIMEZONE:Europe/Berlin
BEGIN:VEVENT
UID:589@marketingclub-muenchen.de
DTSTART;TZID=Europe/Berlin:20221010T183000
DTEND;TZID=Europe/Berlin:20221010T220000
DTSTAMP:20221006T114605Z
URL:https://www.marketingclub-muenchen.de/veranstaltungen/mcm-mentorenprog
 ramm-%e2%8e%9cwissen-und-erfahrungen-teilen-gemeinsam-wachsen/
SUMMARY:Neuer Termin\, jetzt am 10.10.2022: MCM Mentorenprogramm ⎜Wissen 
 und Erfahrungen teilen – gemeinsam wachsen - Marketing Club München
DESCRIPTION:Achtung: Neuer Termin! Am 10.10.2022 geht es los und wir starte
 n unser Mentorenprogramm unter dem Motto: Wissen &amp\; Erfahrung teilen -
  gemeinsam wachsen. \nDu wünschst dir einen ungeschminkten Austausch unte
 r Fachkräften? Du hast Lust\, dein Wissen mit Gleichgesinnten zu teilen\,
  neuen Input für deinen beruflichen Alltag zu bekommen und dein professio
 nelles Netzwerk zu erweitern?\n
ATTACH;FMTTYPE=image/jpeg:https://www.marketingclub-muenchen.de/wp-content
 /uploads/mcm-teaser-mentoring-verschoben-marketing-club-muenchen-1200x630-
 1.jpg
CATEGORIES:Netzwerk,Vortrag
LOCATION:smart village\, Ganghoferstraße 66b\, 80339 München
X-APPLE-STRUCTURED-LOCATION;VALUE=URI;X-ADDRESS=Ganghoferstraße 66b\, Mün
 chen\, 80339\, Deutschland;X-APPLE-RADIUS=100;X-TITLE=smart village:geo:0,
 0
END:VEVENT
BEGIN:VTIMEZONE
TZID:Europe/Berlin
X-LIC-LOCATION:Europe/Berlin
BEGIN:DAYLIGHT
DTSTART:20220327T030000
TZOFFSETFROM:+0100
TZOFFSETTO:+0200
TZNAME:CEST
END:DAYLIGHT
END:VTIMEZONE
END:VCALENDAR