BEGIN:VCALENDAR
VERSION:2.0
PRODID:-//wp-events-plugin.com//7.2.3.1//EN
TZID:Europe/Berlin
X-WR-TIMEZONE:Europe/Berlin
BEGIN:VEVENT
UID:571@marketingclub-muenchen.de
DTSTART;TZID=Europe/Berlin:20220331T180000
DTEND;TZID=Europe/Berlin:20220331T210000
DTSTAMP:20220310T122401Z
URL:https://www.marketingclub-muenchen.de/veranstaltungen/mc-dortmund-zu-g
 ast-in-muenchen/
SUMMARY:MC Dortmund zu Gast in München - Marketing Club München
DESCRIPTION:Die Marketing Reise des MC Dortmund führt am 31. März 2022 na
 ch München. Klar\, dass wir den MC Dortmund aufs herzlichste in unserer H
 eimatstadt begrüßen wollen!
ATTACH;FMTTYPE=image/jpeg:https://www.marketingclub-muenchen.de/wp-content
 /uploads/teaser-mcdortmund-1200x630-1.jpg
CATEGORIES:Netzwerk
LOCATION:Paulaner am Nockherberg\, Hochstraße 77\, 81541 München
GEO:48.121869;11.58231
X-APPLE-STRUCTURED-LOCATION;VALUE=URI;X-ADDRESS=Hochstraße 77\, München\,
  Bayern\, 81541\, Deutschland;X-APPLE-RADIUS=100;X-TITLE=Paulaner am Nockh
 erberg:geo:48.121869,11.58231
END:VEVENT
BEGIN:VTIMEZONE
TZID:Europe/Berlin
X-LIC-LOCATION:Europe/Berlin
BEGIN:DAYLIGHT
DTSTART:20220327T030000
TZOFFSETFROM:+0100
TZOFFSETTO:+0200
TZNAME:CEST
END:DAYLIGHT
END:VTIMEZONE
END:VCALENDAR