BEGIN:VCALENDAR
VERSION:2.0
PRODID:-//wp-events-plugin.com//7.2.3.1//EN
TZID:Europe/Berlin
X-WR-TIMEZONE:Europe/Berlin
BEGIN:VEVENT
UID:46@marketingclub-muenchen.de
DTSTART;TZID=Europe/Berlin:20080506T193000
DTEND;TZID=Europe/Berlin:20080506T210000
DTSTAMP:20160112T134224Z
URL:https://www.marketingclub-muenchen.de/veranstaltungen/marketingerfolg-
 dank-der-richtigen-koerpersprache/
SUMMARY:Marketingerfolg dank der richtigen Körpersprache - Marketing Club 
 München
DESCRIPTION:Jean-Marie Bottequin begann seinen Vortrag mit einer Fabel von 
 einem Pfau und von einer Krähe und wies damit auf die Diskrepanz zwischen
  Eigen- und Fremdbild hin.
CATEGORIES:Rückblick,Vortrag
LOCATION:IHK Akademie\, Orleanstr. 10 - 12\, 81699 München
GEO:48.12443649999999;11.59843890000002
X-APPLE-STRUCTURED-LOCATION;VALUE=URI;X-ADDRESS=Orleanstr. 10 - 12\, Münch
 en\, 81699\, Deutschland;X-APPLE-RADIUS=100;X-TITLE=IHK Akademie:geo:48.12
 443649999999,11.59843890000002
END:VEVENT
BEGIN:VTIMEZONE
TZID:Europe/Berlin
X-LIC-LOCATION:Europe/Berlin
BEGIN:DAYLIGHT
DTSTART:20080330T030000
TZOFFSETFROM:+0100
TZOFFSETTO:+0200
TZNAME:CEST
END:DAYLIGHT
END:VTIMEZONE
END:VCALENDAR