BEGIN:VCALENDAR
VERSION:2.0
PRODID:-//wp-events-plugin.com//7.2.3.1//EN
TZID:Europe/Berlin
X-WR-TIMEZONE:Europe/Berlin
BEGIN:VEVENT
UID:207@marketingclub-muenchen.de
DTSTART;TZID=Europe/Berlin:20070920T193000
DTEND;TZID=Europe/Berlin:20070920T210000
DTSTAMP:20160219T095131Z
URL:https://www.marketingclub-muenchen.de/veranstaltungen/marketingerfolg-
 beginnt-im-kopf-europas-erfolgreichstes-gedaechtnistraining-mit-markus-hof
 mann/
SUMMARY:Marketingerfolg beginnt im Kopf - Europas erfolgreichstes Gedächtn
 istraining mit Markus Hofmann - Marketing Club München
DESCRIPTION:Wie merkt man sich am besten die Namen und Gesichter seiner Ges
 chäftspartner\, wenn diese womöglich in einer großen Gruppe vorgestellt
  werden? Wer sein Gegenüber korrekt anspricht\, punktet. Doch wie trainie
 rt man sein Gedächtnis nachhaltig? Gibt es Hilfsmittel oder Tricks\, mit 
 denen man sein Erinnerungspotenzial verbessern kann?
ATTACH;FMTTYPE=image/jpeg:https://www.marketingclub-muenchen.de/wp-content
 /uploads/2016/02/marketingerfolg_oben.jpg
CATEGORIES:Kooperation,Netzwerk,Vortrag
LOCATION:IHK Akademie\, Orleanstr. 10 - 12\, 81699 München
GEO:48.12443649999999;11.59843890000002
X-APPLE-STRUCTURED-LOCATION;VALUE=URI;X-ADDRESS=Orleanstr. 10 - 12\, Münch
 en\, 81699\, Deutschland;X-APPLE-RADIUS=100;X-TITLE=IHK Akademie:geo:48.12
 443649999999,11.59843890000002
END:VEVENT
BEGIN:VTIMEZONE
TZID:Europe/Berlin
X-LIC-LOCATION:Europe/Berlin
BEGIN:DAYLIGHT
DTSTART:20070325T030000
TZOFFSETFROM:+0100
TZOFFSETTO:+0200
TZNAME:CEST
END:DAYLIGHT
END:VTIMEZONE
END:VCALENDAR