BEGIN:VCALENDAR
VERSION:2.0
PRODID:-//wp-events-plugin.com//7.2.3.1//EN
TZID:Europe/Berlin
X-WR-TIMEZONE:Europe/Berlin
BEGIN:VEVENT
UID:521@marketingclub-muenchen.de
DTSTART;TZID=Europe/Berlin:20210204T180000
DTEND;TZID=Europe/Berlin:20210204T200000
DTSTAMP:20210127T161120Z
URL:https://www.marketingclub-muenchen.de/veranstaltungen/marketing-speedd
 ating-im-valentins-monat-februar/
SUMMARY:Marketing Speeddating im Valentins-Monat Februar 
DESCRIPTION:Passend zum Valentins-Monat Februar möchten wir den zweiten St
 ammtisch 2021 für ein Speeddating mit unseren Clubmitgliedern nutzen! Nut
 zen Sie die Möglichkeit und probieren Sie mit uns das Tool „Meetaway“
  aus\, das alle Teilnehmer intelligent zusammenwürfelt und für eine kurz
 weilige Zeit sorgt.
ATTACH;FMTTYPE=image/jpeg:https://www.marketingclub-muenchen.de/wp-content
 /uploads/Header_Stammtisch_02-2021.png
CATEGORIES:Marketing Pioniere,Sonstige,Webtalk
LOCATION:wird noch bekannt gegeben\, .\,  .
X-APPLE-STRUCTURED-LOCATION;VALUE=URI;X-ADDRESS=.\, .\, Deutschland;X-APPLE
 -RADIUS=100;X-TITLE=wird noch bekannt gegeben:geo:0,0
END:VEVENT
BEGIN:VTIMEZONE
TZID:Europe/Berlin
X-LIC-LOCATION:Europe/Berlin
BEGIN:STANDARD
DTSTART:20201025T020000
TZOFFSETFROM:+0200
TZOFFSETTO:+0100
TZNAME:CET
END:STANDARD
END:VTIMEZONE
END:VCALENDAR