BEGIN:VCALENDAR
VERSION:2.0
PRODID:-//wp-events-plugin.com//7.2.3.1//EN
TZID:Europe/Berlin
X-WR-TIMEZONE:Europe/Berlin
BEGIN:VEVENT
UID:29@marketingclub-muenchen.de
DTSTART;TZID=Europe/Berlin:20150505T193000
DTEND;TZID=Europe/Berlin:20150505T210000
DTSTAMP:20160113T212852Z
URL:https://www.marketingclub-muenchen.de/veranstaltungen/marketing-erfolg
 sstory-immobilienscout24-marktfuehrer-durch-kontinuierliche-marketing-inno
 vationen/
SUMMARY:Marketing-Erfolgsstory: ImmobilienScout24 - Marktführer durch kont
 inuierliche Marketing-Innovationen - Marketing Club München
DESCRIPTION:Wer bereits längere Zeit an einem Ort sesshaft ist\, kann sich
  an die Suche nach einem neuen Domizil nur über bunt gewürfelte Zeitungs
 inserate\, mühsames Abtelefonieren geringinformativer Inserate erinnern -
  und sehr frühes Aufstehen\, um die Ausgabe der örtlichen Mittwochs- ode
 r Samstagszeitung zu ergattern.
ATTACH;FMTTYPE=image/jpeg:https://www.marketingclub-muenchen.de/wp-content
 /uploads/immoscout.jpg
CATEGORIES:Rückblick,Vortrag
END:VEVENT
BEGIN:VTIMEZONE
TZID:Europe/Berlin
X-LIC-LOCATION:Europe/Berlin
BEGIN:DAYLIGHT
DTSTART:20150329T030000
TZOFFSETFROM:+0100
TZOFFSETTO:+0200
TZNAME:CEST
END:DAYLIGHT
END:VTIMEZONE
END:VCALENDAR