BEGIN:VCALENDAR
VERSION:2.0
PRODID:-//wp-events-plugin.com//7.2.3.1//EN
TZID:Europe/Berlin
X-WR-TIMEZONE:Europe/Berlin
BEGIN:VEVENT
UID:630@marketingclub-muenchen.de
DTSTART;TZID=Europe/Berlin:20240215T183000
DTEND;TZID=Europe/Berlin:20240215T213000
DTSTAMP:20240711T091702Z
URL:https://www.marketingclub-muenchen.de/veranstaltungen/marketing-automa
 tion-2024-erfolg-durch-personalisierung-mit-daten-integration-und-content-
 automation/
SUMMARY:Marketing Automation 2024: Erfolg durch Personalisierung mit Daten 
 Integration und Content Automation - Marketing Club München
DESCRIPTION:Tauchen Sie mit uns in die Welt der Marketing Automation ein un
 d entdecken Sie\, wie Sie Ihre digitalen Marketingstrategien durch Persona
 lisierung und Datenintegration optimieren können. Erfahren Sie aus erster
  Hand\, wie sich Herausforderungen in Chancen verwandeln lassen und wie mo
 derne Technologien wie KI und Automatisierung das Marketing revolutioniere
 n.
ATTACH;FMTTYPE=image/jpeg:https://www.marketingclub-muenchen.de/wp-content
 /uploads/mcm-teaser-markauto-01-marketing-club-muenchen-1200x630-1.jpg
CATEGORIES:Rückblick,Vortrag
LOCATION:Architopia\, Astallerstraße 15\, 80339 München
X-APPLE-STRUCTURED-LOCATION;VALUE=URI;X-ADDRESS=Astallerstraße 15\, Münch
 en\, Bayern\, 80339\, Deutschland;X-APPLE-RADIUS=100;X-TITLE=Architopia:ge
 o:0,0
END:VEVENT
BEGIN:VTIMEZONE
TZID:Europe/Berlin
X-LIC-LOCATION:Europe/Berlin
BEGIN:STANDARD
DTSTART:20231029T020000
TZOFFSETFROM:+0200
TZOFFSETTO:+0100
TZNAME:CET
END:STANDARD
END:VTIMEZONE
END:VCALENDAR